Workbook
Name č.1: 'Přehled výdajů a cílů'!#REF!
Name č.1: 'Navržená opatření,výdaje a cíle'!$F$514:$F$536
Name č.10: 'Přehled výdajů a cílů'!#REF!
Name č.10: 'Navržená opatření,výdaje a cíle'!$P$514
Name č.11: 'Přehled výdajů a cílů'!#REF!
Name č.11: 'Navržená opatření,výdaje a cíle'!$Q$514
Name č.12: 'Přehled výdajů a cílů'!#REF!
Name č.12: 'Navržená opatření,výdaje a cíle'!$R$514
Name č.13: 'Přehled výdajů a cílů'!#REF!
Name č.13: 'Navržená opatření,výdaje a cíle'!$S$514
Name č.14: 'Přehled výdajů a cílů'!#REF!
Name č.14: 'Navržená opatření,výdaje a cíle'!$T$514
Name č.15: 'Přehled výdajů a cílů'!#REF!
Name č.15: 'Navržená opatření,výdaje a cíle'!$X$514:$X$516
Name č.2: 'Přehled výdajů a cílů'!#REF!
Name č.2: 'Navržená opatření,výdaje a cíle'!$G$514:$G$518
Name č.3: 'Přehled výdajů a cílů'!#REF!
Name č.3: 'Navržená opatření,výdaje a cíle'!$I$514:$I$517
Name č.4: 'Přehled výdajů a cílů'!#REF!
Name č.4: 'Navržená opatření,výdaje a cíle'!$J$514:$J$517
Name č.5: 'Přehled výdajů a cílů'!#REF!
Name č.5: 'Navržená opatření,výdaje a cíle'!$K$514:$K$519
Name č.6: 'Přehled výdajů a cílů'!#REF!
Name č.6: 'Navržená opatření,výdaje a cíle'!$L$514:$L$518
Name č.7: 'Přehled výdajů a cílů'!#REF!
Name č.7: 'Navržená opatření,výdaje a cíle'!$M$514:$M$515
Name č.8: 'Přehled výdajů a cílů'!#REF!
Name č.8: 'Navržená opatření,výdaje a cíle'!$N$514:$N$517
Name č.9: 'Přehled výdajů a cílů'!#REF!
Name č.9: 'Navržená opatření,výdaje a cíle'!$Q$514:$Q$518
Name I.: 'Přehled výdajů a cílů'!#REF!
Name I.: 'Navržená opatření,výdaje a cíle'!$F$514:$F$544
Name II.: 'Přehled výdajů a cílů'!#REF!
Name II.: 'Navržená opatření,výdaje a cíle'!$G$514:$G$519
Name III.: 'Přehled výdajů a cílů'!#REF!
Name III.: 'Navržená opatření,výdaje a cíle'!$H$514:$H$518
Name IV.: 'Přehled výdajů a cílů'!#REF!
Name IV.: 'Navržená opatření,výdaje a cíle'!$I$514:$I$518
Name IX.: 'Přehled výdajů a cílů'!#REF!
Name IX.: 'Navržená opatření,výdaje a cíle'!$N$514:$N$523
Name Procenta: 'Navržená opatření,výdaje a cíle'!$M$542:$M$545
Name V.: 'Přehled výdajů a cílů'!#REF!
Name V.: 'Navržená opatření,výdaje a cíle'!$J$514:$J$520
Name VI.: 'Přehled výdajů a cílů'!#REF!
Name VI.: 'Navržená opatření,výdaje a cíle'!$K$514:$K$519
Name VII.: 'Přehled výdajů a cílů'!#REF!
Name VII.: 'Navržená opatření,výdaje a cíle'!$L$514:$L$516
Name VIII.: 'Přehled výdajů a cílů'!#REF!
Name VIII.: 'Navržená opatření,výdaje a cíle'!$M$514:$M$517
Name X.: 'Přehled výdajů a cílů'!#REF!
Name X.: 'Navržená opatření,výdaje a cíle'!$O$514
Name XI.: 'Přehled výdajů a cílů'!#REF!
Name XI.: 'Navržená opatření,výdaje a cíle'!$P$514
Name XII.: 'Přehled výdajů a cílů'!#REF!
Name XII.: 'Navržená opatření,výdaje a cíle'!$Q$514
Name XIII.: 'Přehled výdajů a cílů'!#REF!
Name XIII.: 'Navržená opatření,výdaje a cíle'!$R$514
Name XIV.: 'Přehled výdajů a cílů'!#REF!
Name XIV.: 'Navržená opatření,výdaje a cíle'!$S$514
Name XV.: 'Přehled výdajů a cílů'!#REF!

Sheet Navržená opatření,výdaje a cíle
J7: Příloha č. 7 - Navržená opatření, výdaje a cíle (OP ovoce a zelenina) | S7: Ve Smečkách 33
S8: 110 00 Praha 1
S9: tel: + 420 222 871 871
S10: datová schránka: jn2aiqd
F13: 1. Identifikační číslo žadatele
F18: 2. Navrhovaná opatření a výdaje
F21: Rok operačního programu | G21: Číslo opatření | I21: Číslo výdaje dle NV | J21: Název výdaje dle NV | K21: Název a popis konkrétního výdaje | L21: Plánovaná hodnota výdaje bez DPH (Kč) | M21: % podpory dle čl. 52 NEPR 2021/2115 | N21: Podpora na plánovaný výdaj (Kč) | O21: IČO jednotlivých členů využívající konkrétní výdaj | P21: Sledovaný cíl dle čl. 46 NEPR 2021/2115 | Q21: Sledovaný cíl dle čl. 12 NK 2022/126 | R21: Sledovaný cíl dle čl. 13 NK 2022/126 | S21: Sledovaný cíl dle čl. 14 NK 2022/126
H22: =CONCATENATE(F22,G22) | J22: =IFERROR(VLOOKUP(G22&"+"&I22,$W$22:$Z$106,4,0),"") | N22: =IFERROR(L22/100*V22,"") | V22: =IF(M22="50 %","50",IF(M22="60 %","60",IF(M22="80 %","80",IF(M22="100 %","100","")))) | W22: =X22&"+"&Y22 -> I.+1. | X22: I. | Y22: 1. | Z22: Výdaje na pořízení výpočetní techniky
H23: =CONCATENATE(F23,G23) | J23: =IFERROR(VLOOKUP(G23&"+"&I23,$W$22:$Z$106,4,0),"") | N23: =IFERROR(L23/100*V23,"") | V23: =IF(M23="50 %","50",IF(M23="60 %","60",IF(M23="80 %","80",IF(M23="100 %","100","")))) | W23: =X23&"+"&Y23 -> I.+2. | X23: I. | Y23: 2. | Z23: Výdaje na pořízení softwarového vybavení
H24: =CONCATENATE(F24,G24) | J24: =IFERROR(VLOOKUP(G24&"+"&I24,$W$22:$Z$106,4,0),"") | N24: =IFERROR(L24/100*V24,"") | V24: =IF(M24="50 %","50",IF(M24="60 %","60",IF(M24="80 %","80",IF(M24="100 %","100","")))) | W24: =X24&"+"&Y24 -> I.+3. | X24: I. | Y24: 3. | Z24: Výdaje na pořízení technologií pro přípravu půdy
H25: =CONCATENATE(F25,G25) | J25: =IFERROR(VLOOKUP(G25&"+"&I25,$W$22:$Z$106,4,0),"") | N25: =IFERROR(L25/100*V25,"") | V25: =IF(M25="50 %","50",IF(M25="60 %","60",IF(M25="80 %","80",IF(M25="100 %","100","")))) | W25: =X25&"+"&Y25 -> I.+4. | X25: I. | Y25: 4. | Z25: Výdaje na pořízení technologií pro ošetřování rostlin
H26: =CONCATENATE(F26,G26) | J26: =IFERROR(VLOOKUP(G26&"+"&I26,$W$22:$Z$106,4,0),"") | N26: =IFERROR(L26/100*V26,"") | V26: =IF(M26="50 %","50",IF(M26="60 %","60",IF(M26="80 %","80",IF(M26="100 %","100","")))) | W26: =X26&"+"&Y26 -> I.+5. | X26: I. | Y26: 5. | Z26: Výdaje na pořízní technologií pro sklizeň rostlin včetně sklizňových boxů
H27: =CONCATENATE(F27,G27) | J27: =IFERROR(VLOOKUP(G27&"+"&I27,$W$22:$Z$106,4,0),"") | N27: =IFERROR(L27/100*V27,"") | V27: =IF(M27="50 %","50",IF(M27="60 %","60",IF(M27="80 %","80",IF(M27="100 %","100","")))) | W27: =X27&"+"&Y27 -> I.+6. | X27: I. | Y27: 6. | Z27: Výdaje na pořízení skleníků nebo fóliovníků a související technologie nebo výdaje související s vybavením skleníků
H28: =CONCATENATE(F28,G28) | J28: =IFERROR(VLOOKUP(G28&"+"&I28,$W$22:$Z$106,4,0),"") | N28: =IFERROR(L28/100*V28,"") | V28: =IF(M28="50 %","50",IF(M28="60 %","60",IF(M28="80 %","80",IF(M28="100 %","100","")))) | W28: =X28&"+"&Y28 -> I.+7. | X28: I. | Y28: 7. | Z28: Výdaje na budování systémů síťových nebo foliových krytů
H29: =CONCATENATE(F29,G29) | J29: =IFERROR(VLOOKUP(G29&"+"&I29,$W$22:$Z$106,4,0),"") | N29: =IFERROR(L29/100*V29,"") | V29: =IF(M29="50 %","50",IF(M29="60 %","60",IF(M29="80 %","80",IF(M29="100 %","100","")))) | W29: =X29&"+"&Y29 -> I.+8. | X29: I. | Y29: 8. | Z29: Výdaje na zařízení nebo technologie související s agroenvironmentálně-klimatickými cíli včetně výměny starých chladících systémů nebo tepelné izolace objektů pro skladování a posklizňovou úpravu
H30: =CONCATENATE(F30,G30) | J30: =IFERROR(VLOOKUP(G30&"+"&I30,$W$22:$Z$106,4,0),"") | N30: =IFERROR(L30/100*V30,"") | V30: =IF(M30="50 %","50",IF(M30="60 %","60",IF(M30="80 %","80",IF(M30="100 %","100","")))) | W30: =X30&"+"&Y30 -> I.+9. | X30: I. | Y30: 9. | Z30: Výdaje na pořízení technologií nebo zařízení ke zvýšení přirozené úrodnosti půd, včetně mulčovačů, drtičů větví, pařezů nebo kmenů
H31: =CONCATENATE(F31,G31) | J31: =IFERROR(VLOOKUP(G31&"+"&I31,$W$22:$Z$106,4,0),"") | N31: =IFERROR(L31/100*V31,"") | V31: =IF(M31="50 %","50",IF(M31="60 %","60",IF(M31="80 %","80",IF(M31="100 %","100","")))) | W31: =X31&"+"&Y31 -> I.+10. | X31: I. | Y31: 10. | Z31: Výdaje na pořízení technologií pro laboratorní nebo polní detekci patogenních organismů, včetně virů a bakterií
H32: =CONCATENATE(F32,G32) | J32: =IFERROR(VLOOKUP(G32&"+"&I32,$W$22:$Z$106,4,0),"") | N32: =IFERROR(L32/100*V32,"") | V32: =IF(M32="50 %","50",IF(M32="60 %","60",IF(M32="80 %","80",IF(M32="100 %","100","")))) | W32: =X32&"+"&Y32 -> I.+11. | X32: I. | Y32: 11. | Z32: Výdaje na pořízení technologií v souvislosti s automatickým monitoringem chorob a škůdců v porostech
H33: =CONCATENATE(F33,G33) | J33: =IFERROR(VLOOKUP(G33&"+"&I33,$W$22:$Z$106,4,0),"") | N33: =IFERROR(L33/100*V33,"") | V33: =IF(M33="50 %","50",IF(M33="60 %","60",IF(M33="80 %","80",IF(M33="100 %","100","")))) | W33: =X33&"+"&Y33 -> I.+12. | X33: I. | Y33: 12. | Z33: Výdaje na protimrazovou ochranu
... H106: =CONCATENATE(F106,G106) | J106: =IFERROR(VLOOKUP(G106&"+"&I106,$W$22:$Z$106,4,0),"") | N106: =IFERROR(L106/100*V106,"") | V106: =IF(M106="50 %","50",IF(M106="60 %","60",IF(M106="80 %","80",IF(M106="100 %","100","")))) | W106: =X106&"+"&Y106 -> XV.+3. | X106: XV. | Y106: 3. | Z106: Personální výdaje související s prováděním tohoto opatření
H107: =CONCATENATE(F107,G107) | J107: =IFERROR(VLOOKUP(G107&"+"&I107,$W$22:$Z$106,4,0),"") | N107: =IFERROR(L107/100*V107,"") | V107: =IF(M107="50 %","50",IF(M107="60 %","60",IF(M107="80 %","80",IF(M107="100 %","100",""))))
H108: =CONCATENATE(F108,G108) | J108: =IFERROR(VLOOKUP(G108&"+"&I108,$W$22:$Z$106,4,0),"") | N108: =IFERROR(L108/100*V108,"") | V108: =IF(M108="50 %","50",IF(M108="60 %","60",IF(M108="80 %","80",IF(M108="100 %","100",""))))
H109: =CONCATENATE(F109,G109) | J109: =IFERROR(VLOOKUP(G109&"+"&I109,$W$22:$Z$106,4,0),"") | N109: =IFERROR(L109/100*V109,"") | V109: =IF(M109="50 %","50",IF(M109="60 %","60",IF(M109="80 %","80",IF(M109="100 %","100",""))))
H110: =CONCATENATE(F110,G110) | J110: =IFERROR(VLOOKUP(G110&"+"&I110,$W$22:$Z$106,4,0),"") | N110: =IFERROR(L110/100*V110,"") | V110: =IF(M110="50 %","50",IF(M110="60 %","60",IF(M110="80 %","80",IF(M110="100 %","100",""))))
H111: =CONCATENATE(F111,G111) | J111: =IFERROR(VLOOKUP(G111&"+"&I111,$W$22:$Z$106,4,0),"") | N111: =IFERROR(L111/100*V111,"") | V111: =IF(M111="50 %","50",IF(M111="60 %","60",IF(M111="80 %","80",IF(M111="100 %","100",""))))
H112: =CONCATENATE(F112,G112) | J112: =IFERROR(VLOOKUP(G112&"+"&I112,$W$22:$Z$106,4,0),"") | N112: =IFERROR(L112/100*V112,"") | V112: =IF(M112="50 %","50",IF(M112="60 %","60",IF(M112="80 %","80",IF(M112="100 %","100",""))))
H113: =CONCATENATE(F113,G113) | J113: =IFERROR(VLOOKUP(G113&"+"&I113,$W$22:$Z$106,4,0),"") | N113: =IFERROR(L113/100*V113,"") | V113: =IF(M113="50 %","50",IF(M113="60 %","60",IF(M113="80 %","80",IF(M113="100 %","100",""))))
H114: =CONCATENATE(F114,G114) | J114: =IFERROR(VLOOKUP(G114&"+"&I114,$W$22:$Z$106,4,0),"") | N114: =IFERROR(L114/100*V114,"") | V114: =IF(M114="50 %","50",IF(M114="60 %","60",IF(M114="80 %","80",IF(M114="100 %","100",""))))
H115: =CONCATENATE(F115,G115) | J115: =IFERROR(VLOOKUP(G115&"+"&I115,$W$22:$Z$106,4,0),"") | N115: =IFERROR(L115/100*V115,"") | V115: =IF(M115="50 %","50",IF(M115="60 %","60",IF(M115="80 %","80",IF(M115="100 %","100",""))))
H116: =CONCATENATE(F116,G116) | J116: =IFERROR(VLOOKUP(G116&"+"&I116,$W$22:$Z$106,4,0),"") | N116: =IFERROR(L116/100*V116,"") | V116: =IF(M116="50 %","50",IF(M116="60 %","60",IF(M116="80 %","80",IF(M116="100 %","100",""))))
H117: =CONCATENATE(F117,G117) | J117: =IFERROR(VLOOKUP(G117&"+"&I117,$W$22:$Z$106,4,0),"") | N117: =IFERROR(L117/100*V117,"") | V117: =IF(M117="50 %","50",IF(M117="60 %","60",IF(M117="80 %","80",IF(M117="100 %","100",""))))
H118: =CONCATENATE(F118,G118) | J118: =IFERROR(VLOOKUP(G118&"+"&I118,$W$22:$Z$106,4,0),"") | N118: =IFERROR(L118/100*V118,"") | V118: =IF(M118="50 %","50",IF(M118="60 %","60",IF(M118="80 %","80",IF(M118="100 %","100",""))))
... H510: =CONCATENATE(F510,G510) | J510: =IFERROR(VLOOKUP(G510&"+"&I510,$W$22:$Z$106,4,0),"") | N510: =IFERROR(L510/100*V510,"") | V510: =IF(M510="50 %","50",IF(M510="60 %","60",IF(M510="80 %","80",IF(M510="100 %","100",""))))
E511: S2111119.05
F513: I. | G513: II. | H513: III. | I513: IV. | J513: V. | K513: VI. | L513: VII. | M513: VIII. | N513: IX. | O513: X. | P513: XI. | Q513: XII. | R513: XIII. | S513: XIV. | T513: XV.
F514: 1. | G514: 1. | H514: 1. | I514: 1. | J514: 1. | K514: 1. | L514: 1. | M514: 1. | N514: 1. | O514: 1. | P514: 1. | Q514: 1. | R514: 1. | S514: 1. | T514: 1.
F515: 2. | G515: 2. | H515: 2. | I515: 2. | J515: 2. | K515: 2. | L515: 2. | M515: 2. | N515: 2. | T515: 2.
F516: 3. | G516: 3. | H516: 3. | I516: 3. | J516: 3. | K516: 3. | L516: 3. | M516: 3. | N516: 3. | T516: 3.
F517: 4. | G517: 4. | H517: 4. | I517: 4. | J517: 4. | K517: 4. | M517: 4. | N517: 4.
F518: 5. | G518: 5. | H518: 5. | I518: 5. | J518: 5. | K518: 5. | N518: 5.
...

Sheet Přehled výdajů a cílů
N7: Příloha č. 7 - Navržená opatření, výdaje a cíle (OP ovoce a zelenina) | R7: Ve Smečkách 33
R8: 110 00 Praha 1
R9: tel: + 420 222 871 871
R10: datová schránka: jn2aiqd
H13: Informativní přehled jednotlivých opatření, výdajů a cílů dle nařízení vlády č. 82/2023 Sb.
H15: ODVĚTVÍ OVOCE A ZELENINY
H17: I. Investice, výzkum a vývoj
H18: Sledované cíle podle nařízení Evropského parlamentu a Rady (EU) 2021/2115 - čl. 46 písm. a), b), c), d), e), f), g) nebo k)
H19: Sledované cíle podle nařízení Komise v přenesené pravomoci (EU) 2022/126 (opatření související s agroenvironmentálně klimatickými cíli) - čl. 12 odst. 1 písm. a) až i)
H20: 1. | I20: Výdaje na pořízení výpočetní techniky
H21: 2. | I21: Výdaje na pořízení softwarového vybavení
H22: 3. | I22: Výdaje na pořízení technologií pro přípravu půdy
H23: 4. | I23: Výdaje na pořízení technologií pro ošetřování rostlin
H24: 5. | I24: Výdaje na pořízní technologií pro sklizeň rostlin včetně sklizňových boxů
H25: 6. | I25: Výdaje na pořízení skleníků nebo fóliovníků a související technologie nebo výdaje související s vybavením skleníků
H26: 7. | I26: Výdaje na budování systémů síťových nebo foliových krytů
H27: 8. | I27: Výdaje na zařízení nebo technologie související s agroenvironmentálně-klimatickými cíli včetně výměny starých chladících systémů nebo tepelné izolace objektů pro skladování a posklizňovou úpravu
H28: 9. | I28: Výdaje na pořízení technologií nebo zařízení ke zvýšení přirozené úrodnosti půd, včetně mulčovačů, drtičů větví, pařezů nebo kmenů
H29: 10. | I29: Výdaje na pořízení technologií pro laboratorní nebo polní detekci patogenních organismů, včetně virů a bakterií
H30: 11. | I30: Výdaje na pořízení technologií v souvislosti s automatickým monitoringem chorob a škůdců v porostech
H31: 12. | I31: Výdaje na protimrazovou ochranu
... H50: 31. | I50: Správní výdaje související s prováděním tohoto opatření
H52: II. Poradenství a technická pomoc
H53: Sledované cíle podle nařízení Evropského parlamentu a Rady (EU) 2021/2115 - čl. 46 písm. d), e), i) nebo k)
H54: Sledované cíle podle nařízení Komise v přenesené pravomoci (EU) 2022/126 (opatření související s agroenvironmentálně klimatickými cíli) - čl. 12 odst. 1 písm. a) až i
H55: 1. | I55: Výdaje spojené se získáním informací z oblasti šetrných technologií pěstování ovoce a zeleniny, zejména z oblasti integrované produkce a ekolog. zemědělství, zavádění inovativních postupů v oblasti pěstování, sklizně, posklizňové úpravy, skladování atd.
H56: 2. | I56: Výdaje spojené se získáním informací o environmentálních tématech, o kontrole chorob a škůdců, jakosti produktů, o dohledatelnosti produktů, o zlepšení a udržení vysoké kvality produkce
H57: 3. | I57: Výdaje spojené s poradenskou činností k zajištění vysoké kvality produkce
H58: 4. | I58: Výdaje spojené s bezpečností pracovního prostředí
H59: 5. | I59: Personální výdaje související s prováděním tohoto opatření
H60: 6. | I60: Správní výdaje související s prováděním tohoto opatření
H62: III. Odborná příprava a školení
H63: Sledované cíle podle nařízení Evropského parlamentu a Rady (EU) 2021/2115 - čl. 46 písm. d), e), f) nebo i)
H64: Sledované cíle podle nařízení Komise v přenesené pravomoci (EU) 2022/126 (opatření související s agroenvironmentálně klimatickými cíli) - čl. 12 odst. 1 písm. a) až i)
H65: 1. | I65: Výdaje spojené s poskytováním vzdělání nebo s přednáškovou činností včetně pronájmu prostor, výstavní plochy nebo sálu, ubytování nebo dopravy
H66: 2. | I66: Výdaje spojené s poskytováním vzdělání nebo s přednáškovou činností týkající se environmentálních témat, výzkumu nebo vývoje
H67: 3. | I67: Výdaje spojené s výzkumem nebo vývojem a předáváním znalostí a osvědčených postupů do zemědělské praxe
H68: 4. | I68: Personální výdaje související s prováděním tohoto opatření
H69: 5. | I69: Správní výdaje související s prováděním tohoto opatření
H71: IV. Ekologická nebo integrovaná produkce
...

Sheet Plnění cílů
X6: Příloha č. 7 - Navržená opatření, výdaje a cíle (OP ovoce a zelenina) | DH6: Ve Smečkách 33
DH7: 110 00 Praha 1
DH8: tel: + 420 222 871 871
DH9: datová schránka: jn2aiqd
G13: 3. Plnění cílů
G16: Sledovaný cíl dle čl. 46 NEPR 2021/2115 a čl. 12, 13 a 14 NK 2022/126 | BA16: Popis výchozího stavu před realizací operačního programu | BZ16: Způsob plnění cíle | CY16: Popis cílového stavu po realizaci operačního programu
G19: čl. 46 písm. a) plánování a organizace produkce, přizpůsobování produkce poptávce, zejména pokud jde o jakost a množství, optimalizace produkčních nákladů a návratnosti investic, a stabilizace cen producentů
G20: čl. 46 písm. b) soustředění nabídky a uvádění produktů na trh, mimo jiné prostřednictvím přímého prodeje
G21: čl. 46 písm. c) zlepšení střednědobé a dlouhodobé konkurenceschopnosti, zejména prostřednictvím modernizace
G22: čl. 46 písm. d) výzkum a vývoj udržitelných metod produkce, včetně odolnosti vůči škůdcům, jakož i zmírňování změny klimatu a přizpůsobování se této změně, inovativních postupů a technologií produkce posilujících hospodářskou konkurenceschopnost a podporujících rozvoj trhu
G23: čl. 46 písm. e) i) podpora, vývoj a zavádění metod a technologií produkce šetrných k životnímu prostředí
G24: čl. 46 písm. e) ii) podpora, vývoj a zavádění postupů produkce odolných vůči škodlivým organismům a nákazám
G25: čl. 46 písm. e) iv) podpora, vývoj a zavádění omezení odpadu a využívání vedlejších produktů a nakládání s nimi způsobem šetrným k životnímu prostředí, včetně jejich opětovného využití a zhodnocení.
G26: čl. 46 písm. e) v) podpora, vývoj a zavádění ochrany a posílení biologické rozmanitosti, jakož i udržitelného využívání přírodních zdrojů, zejména s ohledem na ochranu vody, půdy a ovzduší.
G27: čl. 46 písm. f) přispívání ke zmírňování změny klimatu a přizpůsobování se této změně
G28: čl. 46 písm. g) zvyšování obchodní hodnoty a jakosti produktů, včetně zlepšování jakosti produktů a vývoje produktů s chráněným označením původu nebo chráněným zeměpisným označením nebo produktů, na něž se vztahují unijní či vnitrostátní režimy jakosti uznané členskými státy
G29: čl. 46 písm. h) propagace produktů a jejich uvádění na trh
G30: čl. 46 písm. i) zvyšování spotřeby produktů odvětví ovoce a zeleniny v čerstvém i zpracovaném stavu
... G38: S2111119.05

Sheet Souhrn operačního programu
Z6: Příloha č. 7 - Navržená opatření, výdaje a cíle (OP ovoce a zelenina) | EB6: Ve Smečkách 33
EB7: 110 00 Praha 1
EB8: tel: + 420 222 871 871
EB9: datová schránka: jn2aiqd
G13: 4. Celkové částky způsobilých výdajů pro každý rok trvání operačního programu
G14: (*OPP = Operační program)
G17: Opatření | BE17: Rok operačního programu | EK17: Celková částka za opatření OPP* v Kč
BE18: 2027 | BQ18: 2028 | CC18: 2029 | CO18: 2030 | DA18: 2031 | DM18: 2032 | DY18: 2033
G19: Částka způsobilých výdajů v Kč | R19: I. Investice, výzkum a vývoj | BE19: =SUMIF('Navržená opatření,výdaje a cíle'!$H$22:$H$510,"2027I.",'Navržená opatření,výdaje a cíle'!$L$22:$L$510) -> 0 | BF19: =SUMIF('Navržená opatření,výdaje a cíle'!H22:H510;"2025I.";'Navržená opatření,výdaje a cíle'!L22:L510) | BL19: =SUMIF('Navržená opatření,výdaje a cíle'!H22:H510;"2025I.";'Navržená opatření,výdaje a cíle'!L22:L510) | BM19: =SUMIF('Navržená opatření,výdaje a cíle'!H22:H510;"2025I.";'Navržená opatření,výdaje a cíle'!L22:L510) | BN19: =SUMIF('Navržená opatření,výdaje a cíle'!H22:H510;"2025I.";'Navržená opatření,výdaje a cíle'!L22:L510) | BO19: =SUMIF('Navržená opatření,výdaje a cíle'!H22:H510;"2025I.";'Navržená opatření,výdaje a cíle'!L22:L510) | BP19: =SUMIF('Navržená opatření,výdaje a cíle'!H22:H510;"2025I.";'Navržená opatření,výdaje a cíle'!L22:L510) | BQ19: =SUMIF('Navržená opatření,výdaje a cíle'!$H$22:$H$510,"2028I.",'Navržená opatření,výdaje a cíle'!$L$22:$L$510) -> 0 | BR19: =SUMIF('Navržená opatření,výdaje a cíle'!H22:H510;"2025I.";'Navržená opatření,výdaje a cíle'!L22:L510) | BX19: =SUMIF('Navržená opatření,výdaje a cíle'!H22:H510;"2025I.";'Navržená opatření,výdaje a cíle'!L22:L510) | BY19: =SUMIF('Navržená opatření,výdaje a cíle'!H22:H510;"2025I.";'Navržená opatření,výdaje a cíle'!L22:L510) | BZ19: =SUMIF('Navržená opatření,výdaje a cíle'!H22:H510;"2025I.";'Navržená opatření,výdaje a cíle'!L22:L510) | CA19: =SUMIF('Navržená opatření,výdaje a cíle'!H22:H510;"2025I.";'Navržená opatření,výdaje a cíle'!L22:L510) | CB19: =SUMIF('Navržená opatření,výdaje a cíle'!H22:H510;"2025I.";'Navržená opatření,výdaje a cíle'!L22:L510) | CC19: =SUMIF('Navržená opatření,výdaje a cíle'!$H$22:$H$510,"2029I.",'Navržená opatření,výdaje a cíle'!$L$22:$L$510) -> 0 | CD19: =SUMIF('Navržená opatření,výdaje a cíle'!H22:H510;"2025I.";'Navržená opatření,výdaje a cíle'!L22:L510) | CJ19: =SUMIF('Navržená opatření,výdaje a cíle'!H22:H510;"2025I.";'Navržená opatření,výdaje a cíle'!L22:L510) | CK19: =SUMIF('Navržená opatření,výdaje a cíle'!H22:H510;"2025I.";'Navržená opatření,výdaje a cíle'!L22:L510) | CL19: =SUMIF('Navržená opatření,výdaje a cíle'!H22:H510;"2025I.";'Navržená opatření,výdaje a cíle'!L22:L510) | CM19: =SUMIF('Navržená opatření,výdaje a cíle'!H22:H510;"2025I.";'Navržená opatření,výdaje a cíle'!L22:L510) | CN19: =SUMIF('Navržená opatření,výdaje a cíle'!H22:H510;"2025I.";'Navržená opatření,výdaje a cíle'!L22:L510) | CO19: =SUMIF('Navržená opatření,výdaje a cíle'!$H$22:$H$510,"2030I.",'Navržená opatření,výdaje a cíle'!$L$22:$L$510) -> 0 | CP19: =SUMIF('Navržená opatření,výdaje a cíle'!H22:H510;"2025I.";'Navržená opatření,výdaje a cíle'!L22:L510) | CV19: =SUMIF('Navržená opatření,výdaje a cíle'!H22:H510;"2025I.";'Navržená opatření,výdaje a cíle'!L22:L510) | CW19: =SUMIF('Navržená opatření,výdaje a cíle'!H22:H510;"2025I.";'Navržená opatření,výdaje a cíle'!L22:L510) | CX19: =SUMIF('Navržená opatření,výdaje a cíle'!H22:H510;"2025I.";'Navržená opatření,výdaje a cíle'!L22:L510) | CY19: =SUMIF('Navržená opatření,výdaje a cíle'!H22:H510;"2025I.";'Navržená opatření,výdaje a cíle'!L22:L510) | CZ19: =SUMIF('Navržená opatření,výdaje a cíle'!H22:H510;"2025I.";'Navržená opatření,výdaje a cíle'!L22:L510) | DA19: =SUMIF('Navržená opatření,výdaje a cíle'!$H$22:$H$510,"2031I.",'Navržená opatření,výdaje a cíle'!$L$22:$L$510) -> 0 | DB19: =SUMIF('Navržená opatření,výdaje a cíle'!H22:H510;"2025I.";'Navržená opatření,výdaje a cíle'!L22:L510) | DH19: =SUMIF('Navržená opatření,výdaje a cíle'!H22:H510;"2025I.";'Navržená opatření,výdaje a cíle'!L22:L510) | DI19: =SUMIF('Navržená opatření,výdaje a cíle'!H22:H510;"2025I.";'Navržená opatření,výdaje a cíle'!L22:L510) | DJ19: =SUMIF('Navržená opatření,výdaje a cíle'!H22:H510;"2025I.";'Navržená opatření,výdaje a cíle'!L22:L510) | DK19: =SUMIF('Navržená opatření,výdaje a cíle'!H22:H510;"2025I.";'Navržená opatření,výdaje a cíle'!L22:L510) | DL19: =SUMIF('Navržená opatření,výdaje a cíle'!H22:H510;"2025I.";'Navržená opatření,výdaje a cíle'!L22:L510) | DM19: =SUMIF('Navržená opatření,výdaje a cíle'!$H$22:$H$510,"2032I.",'Navržená opatření,výdaje a cíle'!$L$22:$L$510) -> 0 | DN19: =SUMIF('Navržená opatření,výdaje a cíle'!H22:H510;"2025I.";'Navržená opatření,výdaje a cíle'!L22:L510) | DT19: =SUMIF('Navržená opatření,výdaje a cíle'!H22:H510;"2025I.";'Navržená opatření,výdaje a cíle'!L22:L510) | DU19: =SUMIF('Navržená opatření,výdaje a cíle'!H22:H510;"2025I.";'Navržená opatření,výdaje a cíle'!L22:L510) | DV19: =SUMIF('Navržená opatření,výdaje a cíle'!H22:H510;"2025I.";'Navržená opatření,výdaje a cíle'!L22:L510) | DW19: =SUMIF('Navržená opatření,výdaje a cíle'!H22:H510;"2025I.";'Navržená opatření,výdaje a cíle'!L22:L510) | DX19: =SUMIF('Navržená opatření,výdaje a cíle'!H22:H510;"2025I.";'Navržená opatření,výdaje a cíle'!L22:L510) | DY19: =SUMIF('Navržená opatření,výdaje a cíle'!$H$22:$H$510,"2033I.",'Navržená opatření,výdaje a cíle'!$L$22:$L$510) -> 0 | DZ19: =SUMIF('Navržená opatření,výdaje a cíle'!H22:H510;"2025I.";'Navržená opatření,výdaje a cíle'!L22:L510) | EF19: =SUMIF('Navržená opatření,výdaje a cíle'!H22:H510;"2025I.";'Navržená opatření,výdaje a cíle'!L22:L510) | EG19: =SUMIF('Navržená opatření,výdaje a cíle'!H22:H510;"2025I.";'Navržená opatření,výdaje a cíle'!L22:L510) | EH19: =SUMIF('Navržená opatření,výdaje a cíle'!H22:H510;"2025I.";'Navržená opatření,výdaje a cíle'!L22:L510) | EI19: =SUMIF('Navržená opatření,výdaje a cíle'!H22:H510;"2025I.";'Navržená opatření,výdaje a cíle'!L22:L510) | EJ19: =SUMIF('Navržená opatření,výdaje a cíle'!H22:H510;"2025I.";'Navržená opatření,výdaje a cíle'!L22:L510) | EK19: =SUM(BE19:EJ19) -> 0
R20: II. Poradenství a technická pomoc | BE20: =SUMIF('Navržená opatření,výdaje a cíle'!$H$22:$H$510,"2027II.",'Navržená opatření,výdaje a cíle'!$L$22:$L$510) -> 0 | BF20: =SUMIF('Navržená opatření,výdaje a cíle'!H22:H510;"2025I.";'Navržená opatření,výdaje a cíle'!L22:L510) | BL20: =SUMIF('Navržená opatření,výdaje a cíle'!H22:H510;"2025I.";'Navržená opatření,výdaje a cíle'!L22:L510) | BM20: =SUMIF('Navržená opatření,výdaje a cíle'!H22:H510;"2025I.";'Navržená opatření,výdaje a cíle'!L22:L510) | BN20: =SUMIF('Navržená opatření,výdaje a cíle'!H22:H510;"2025I.";'Navržená opatření,výdaje a cíle'!L22:L510) | BO20: =SUMIF('Navržená opatření,výdaje a cíle'!H22:H510;"2025I.";'Navržená opatření,výdaje a cíle'!L22:L510) | BP20: =SUMIF('Navržená opatření,výdaje a cíle'!H22:H510;"2025I.";'Navržená opatření,výdaje a cíle'!L22:L510) | BQ20: =SUMIF('Navržená opatření,výdaje a cíle'!$H$22:$H$510,"2028II.",'Navržená opatření,výdaje a cíle'!$L$22:$L$510) -> 0 | BR20: =SUMIF('Navržená opatření,výdaje a cíle'!H22:H510;"2025I.";'Navržená opatření,výdaje a cíle'!L22:L510) | BX20: =SUMIF('Navržená opatření,výdaje a cíle'!H22:H510;"2025I.";'Navržená opatření,výdaje a cíle'!L22:L510) | BY20: =SUMIF('Navržená opatření,výdaje a cíle'!H22:H510;"2025I.";'Navržená opatření,výdaje a cíle'!L22:L510) | BZ20: =SUMIF('Navržená opatření,výdaje a cíle'!H22:H510;"2025I.";'Navržená opatření,výdaje a cíle'!L22:L510) | CA20: =SUMIF('Navržená opatření,výdaje a cíle'!H22:H510;"2025I.";'Navržená opatření,výdaje a cíle'!L22:L510) | CB20: =SUMIF('Navržená opatření,výdaje a cíle'!H22:H510;"2025I.";'Navržená opatření,výdaje a cíle'!L22:L510) | CC20: =SUMIF('Navržená opatření,výdaje a cíle'!$H$22:$H$510,"2029II.",'Navržená opatření,výdaje a cíle'!$L$22:$L$510) -> 0 | CD20: =SUMIF('Navržená opatření,výdaje a cíle'!H22:H510;"2025I.";'Navržená opatření,výdaje a cíle'!L22:L510) | CJ20: =SUMIF('Navržená opatření,výdaje a cíle'!H22:H510;"2025I.";'Navržená opatření,výdaje a cíle'!L22:L510) | CK20: =SUMIF('Navržená opatření,výdaje a cíle'!H22:H510;"2025I.";'Navržená opatření,výdaje a cíle'!L22:L510) | CL20: =SUMIF('Navržená opatření,výdaje a cíle'!H22:H510;"2025I.";'Navržená opatření,výdaje a cíle'!L22:L510) | CM20: =SUMIF('Navržená opatření,výdaje a cíle'!H22:H510;"2025I.";'Navržená opatření,výdaje a cíle'!L22:L510) | CN20: =SUMIF('Navržená opatření,výdaje a cíle'!H22:H510;"2025I.";'Navržená opatření,výdaje a cíle'!L22:L510) | CO20: =SUMIF('Navržená opatření,výdaje a cíle'!$H$22:$H$510,"2030II.",'Navržená opatření,výdaje a cíle'!$L$22:$L$510) -> 0 | CP20: =SUMIF('Navržená opatření,výdaje a cíle'!H22:H510;"2025I.";'Navržená opatření,výdaje a cíle'!L22:L510) | CV20: =SUMIF('Navržená opatření,výdaje a cíle'!H22:H510;"2025I.";'Navržená opatření,výdaje a cíle'!L22:L510) | CW20: =SUMIF('Navržená opatření,výdaje a cíle'!H22:H510;"2025I.";'Navržená opatření,výdaje a cíle'!L22:L510) | CX20: =SUMIF('Navržená opatření,výdaje a cíle'!H22:H510;"2025I.";'Navržená opatření,výdaje a cíle'!L22:L510) | CY20: =SUMIF('Navržená opatření,výdaje a cíle'!H22:H510;"2025I.";'Navržená opatření,výdaje a cíle'!L22:L510) | CZ20: =SUMIF('Navržená opatření,výdaje a cíle'!H22:H510;"2025I.";'Navržená opatření,výdaje a cíle'!L22:L510) | DA20: =SUMIF('Navržená opatření,výdaje a cíle'!$H$22:$H$510,"2031II.",'Navržená opatření,výdaje a cíle'!$L$22:$L$510) -> 0 | DB20: =SUMIF('Navržená opatření,výdaje a cíle'!H22:H510;"2025I.";'Navržená opatření,výdaje a cíle'!L22:L510) | DH20: =SUMIF('Navržená opatření,výdaje a cíle'!H22:H510;"2025I.";'Navržená opatření,výdaje a cíle'!L22:L510) | DI20: =SUMIF('Navržená opatření,výdaje a cíle'!H22:H510;"2025I.";'Navržená opatření,výdaje a cíle'!L22:L510) | DJ20: =SUMIF('Navržená opatření,výdaje a cíle'!H22:H510;"2025I.";'Navržená opatření,výdaje a cíle'!L22:L510) | DK20: =SUMIF('Navržená opatření,výdaje a cíle'!H22:H510;"2025I.";'Navržená opatření,výdaje a cíle'!L22:L510) | DL20: =SUMIF('Navržená opatření,výdaje a cíle'!H22:H510;"2025I.";'Navržená opatření,výdaje a cíle'!L22:L510) | DM20: =SUMIF('Navržená opatření,výdaje a cíle'!$H$22:$H$510,"2032II.",'Navržená opatření,výdaje a cíle'!$L$22:$L$510) -> 0 | DN20: =SUMIF('Navržená opatření,výdaje a cíle'!H22:H510;"2025I.";'Navržená opatření,výdaje a cíle'!L22:L510) | DT20: =SUMIF('Navržená opatření,výdaje a cíle'!H22:H510;"2025I.";'Navržená opatření,výdaje a cíle'!L22:L510) | DU20: =SUMIF('Navržená opatření,výdaje a cíle'!H22:H510;"2025I.";'Navržená opatření,výdaje a cíle'!L22:L510) | DV20: =SUMIF('Navržená opatření,výdaje a cíle'!H22:H510;"2025I.";'Navržená opatření,výdaje a cíle'!L22:L510) | DW20: =SUMIF('Navržená opatření,výdaje a cíle'!H22:H510;"2025I.";'Navržená opatření,výdaje a cíle'!L22:L510) | DX20: =SUMIF('Navržená opatření,výdaje a cíle'!H22:H510;"2025I.";'Navržená opatření,výdaje a cíle'!L22:L510) | DY20: =SUMIF('Navržená opatření,výdaje a cíle'!$H$22:$H$510,"2033II.",'Navržená opatření,výdaje a cíle'!$L$22:$L$510) -> 0 | DZ20: =SUMIF('Navržená opatření,výdaje a cíle'!H22:H510;"2025I.";'Navržená opatření,výdaje a cíle'!L22:L510) | EF20: =SUMIF('Navržená opatření,výdaje a cíle'!H22:H510;"2025I.";'Navržená opatření,výdaje a cíle'!L22:L510) | EG20: =SUMIF('Navržená opatření,výdaje a cíle'!H22:H510;"2025I.";'Navržená opatření,výdaje a cíle'!L22:L510) | EH20: =SUMIF('Navržená opatření,výdaje a cíle'!H22:H510;"2025I.";'Navržená opatření,výdaje a cíle'!L22:L510) | EI20: =SUMIF('Navržená opatření,výdaje a cíle'!H22:H510;"2025I.";'Navržená opatření,výdaje a cíle'!L22:L510) | EJ20: =SUMIF('Navržená opatření,výdaje a cíle'!H22:H510;"2025I.";'Navržená opatření,výdaje a cíle'!L22:L510) | EK20: =SUM(BE20:EJ20) -> 0
R21: III. Odborná příprava a školení | BE21: =SUMIF('Navržená opatření,výdaje a cíle'!$H$22:$H$510,"2027III.",'Navržená opatření,výdaje a cíle'!$L$22:$L$510) -> 0 | BF21: =SUMIF('Navržená opatření,výdaje a cíle'!H22:H510;"2025I.";'Navržená opatření,výdaje a cíle'!L22:L510) | BL21: =SUMIF('Navržená opatření,výdaje a cíle'!H22:H510;"2025I.";'Navržená opatření,výdaje a cíle'!L22:L510) | BM21: =SUMIF('Navržená opatření,výdaje a cíle'!H22:H510;"2025I.";'Navržená opatření,výdaje a cíle'!L22:L510) | BN21: =SUMIF('Navržená opatření,výdaje a cíle'!H22:H510;"2025I.";'Navržená opatření,výdaje a cíle'!L22:L510) | BO21: =SUMIF('Navržená opatření,výdaje a cíle'!H22:H510;"2025I.";'Navržená opatření,výdaje a cíle'!L22:L510) | BP21: =SUMIF('Navržená opatření,výdaje a cíle'!H22:H510;"2025I.";'Navržená opatření,výdaje a cíle'!L22:L510) | BQ21: =SUMIF('Navržená opatření,výdaje a cíle'!$H$22:$H$510,"2028III.",'Navržená opatření,výdaje a cíle'!$L$22:$L$510) -> 0 | BR21: =SUMIF('Navržená opatření,výdaje a cíle'!H22:H510;"2025I.";'Navržená opatření,výdaje a cíle'!L22:L510) | BX21: =SUMIF('Navržená opatření,výdaje a cíle'!H22:H510;"2025I.";'Navržená opatření,výdaje a cíle'!L22:L510) | BY21: =SUMIF('Navržená opatření,výdaje a cíle'!H22:H510;"2025I.";'Navržená opatření,výdaje a cíle'!L22:L510) | BZ21: =SUMIF('Navržená opatření,výdaje a cíle'!H22:H510;"2025I.";'Navržená opatření,výdaje a cíle'!L22:L510) | CA21: =SUMIF('Navržená opatření,výdaje a cíle'!H22:H510;"2025I.";'Navržená opatření,výdaje a cíle'!L22:L510) | CB21: =SUMIF('Navržená opatření,výdaje a cíle'!H22:H510;"2025I.";'Navržená opatření,výdaje a cíle'!L22:L510) | CC21: =SUMIF('Navržená opatření,výdaje a cíle'!$H$22:$H$510,"2029III.",'Navržená opatření,výdaje a cíle'!$L$22:$L$510) -> 0 | CD21: =SUMIF('Navržená opatření,výdaje a cíle'!H22:H510;"2025I.";'Navržená opatření,výdaje a cíle'!L22:L510) | CJ21: =SUMIF('Navržená opatření,výdaje a cíle'!H22:H510;"2025I.";'Navržená opatření,výdaje a cíle'!L22:L510) | CK21: =SUMIF('Navržená opatření,výdaje a cíle'!H22:H510;"2025I.";'Navržená opatření,výdaje a cíle'!L22:L510) | CL21: =SUMIF('Navržená opatření,výdaje a cíle'!H22:H510;"2025I.";'Navržená opatření,výdaje a cíle'!L22:L510) | CM21: =SUMIF('Navržená opatření,výdaje a cíle'!H22:H510;"2025I.";'Navržená opatření,výdaje a cíle'!L22:L510) | CN21: =SUMIF('Navržená opatření,výdaje a cíle'!H22:H510;"2025I.";'Navržená opatření,výdaje a cíle'!L22:L510) | CO21: =SUMIF('Navržená opatření,výdaje a cíle'!$H$22:$H$510,"2030III.",'Navržená opatření,výdaje a cíle'!$L$22:$L$510) -> 0 | CP21: =SUMIF('Navržená opatření,výdaje a cíle'!H22:H510;"2025I.";'Navržená opatření,výdaje a cíle'!L22:L510) | CV21: =SUMIF('Navržená opatření,výdaje a cíle'!H22:H510;"2025I.";'Navržená opatření,výdaje a cíle'!L22:L510) | CW21: =SUMIF('Navržená opatření,výdaje a cíle'!H22:H510;"2025I.";'Navržená opatření,výdaje a cíle'!L22:L510) | CX21: =SUMIF('Navržená opatření,výdaje a cíle'!H22:H510;"2025I.";'Navržená opatření,výdaje a cíle'!L22:L510) | CY21: =SUMIF('Navržená opatření,výdaje a cíle'!H22:H510;"2025I.";'Navržená opatření,výdaje a cíle'!L22:L510) | CZ21: =SUMIF('Navržená opatření,výdaje a cíle'!H22:H510;"2025I.";'Navržená opatření,výdaje a cíle'!L22:L510) | DA21: =SUMIF('Navržená opatření,výdaje a cíle'!$H$22:$H$510,"2031III.",'Navržená opatření,výdaje a cíle'!$L$22:$L$510) -> 0 | DB21: =SUMIF('Navržená opatření,výdaje a cíle'!H22:H510;"2025I.";'Navržená opatření,výdaje a cíle'!L22:L510) | DH21: =SUMIF('Navržená opatření,výdaje a cíle'!H22:H510;"2025I.";'Navržená opatření,výdaje a cíle'!L22:L510) | DI21: =SUMIF('Navržená opatření,výdaje a cíle'!H22:H510;"2025I.";'Navržená opatření,výdaje a cíle'!L22:L510) | DJ21: =SUMIF('Navržená opatření,výdaje a cíle'!H22:H510;"2025I.";'Navržená opatření,výdaje a cíle'!L22:L510) | DK21: =SUMIF('Navržená opatření,výdaje a cíle'!H22:H510;"2025I.";'Navržená opatření,výdaje a cíle'!L22:L510) | DL21: =SUMIF('Navržená opatření,výdaje a cíle'!H22:H510;"2025I.";'Navržená opatření,výdaje a cíle'!L22:L510) | DM21: =SUMIF('Navržená opatření,výdaje a cíle'!$H$22:$H$510,"2032III.",'Navržená opatření,výdaje a cíle'!$L$22:$L$510) -> 0 | DN21: =SUMIF('Navržená opatření,výdaje a cíle'!H22:H510;"2025I.";'Navržená opatření,výdaje a cíle'!L22:L510) | DT21: =SUMIF('Navržená opatření,výdaje a cíle'!H22:H510;"2025I.";'Navržená opatření,výdaje a cíle'!L22:L510) | DU21: =SUMIF('Navržená opatření,výdaje a cíle'!H22:H510;"2025I.";'Navržená opatření,výdaje a cíle'!L22:L510) | DV21: =SUMIF('Navržená opatření,výdaje a cíle'!H22:H510;"2025I.";'Navržená opatření,výdaje a cíle'!L22:L510) | DW21: =SUMIF('Navržená opatření,výdaje a cíle'!H22:H510;"2025I.";'Navržená opatření,výdaje a cíle'!L22:L510) | DX21: =SUMIF('Navržená opatření,výdaje a cíle'!H22:H510;"2025I.";'Navržená opatření,výdaje a cíle'!L22:L510) | DY21: =SUMIF('Navržená opatření,výdaje a cíle'!$H$22:$H$510,"2033III.",'Navržená opatření,výdaje a cíle'!$L$22:$L$510) -> 0 | DZ21: =SUMIF('Navržená opatření,výdaje a cíle'!H22:H510;"2025I.";'Navržená opatření,výdaje a cíle'!L22:L510) | EF21: =SUMIF('Navržená opatření,výdaje a cíle'!H22:H510;"2025I.";'Navržená opatření,výdaje a cíle'!L22:L510) | EG21: =SUMIF('Navržená opatření,výdaje a cíle'!H22:H510;"2025I.";'Navržená opatření,výdaje a cíle'!L22:L510) | EH21: =SUMIF('Navržená opatření,výdaje a cíle'!H22:H510;"2025I.";'Navržená opatření,výdaje a cíle'!L22:L510) | EI21: =SUMIF('Navržená opatření,výdaje a cíle'!H22:H510;"2025I.";'Navržená opatření,výdaje a cíle'!L22:L510) | EJ21: =SUMIF('Navržená opatření,výdaje a cíle'!H22:H510;"2025I.";'Navržená opatření,výdaje a cíle'!L22:L510) | EK21: =SUM(BE21:EJ21) -> 0
R22: IV. Ekologická nebo integrovaná produkce | BE22: =SUMIF('Navržená opatření,výdaje a cíle'!$H$22:$H$510,"2027IV.",'Navržená opatření,výdaje a cíle'!$L$22:$L$510) -> 0 | BF22: =SUMIF('Navržená opatření,výdaje a cíle'!H22:H510;"2025I.";'Navržená opatření,výdaje a cíle'!L22:L510) | BL22: =SUMIF('Navržená opatření,výdaje a cíle'!H22:H510;"2025I.";'Navržená opatření,výdaje a cíle'!L22:L510) | BM22: =SUMIF('Navržená opatření,výdaje a cíle'!H22:H510;"2025I.";'Navržená opatření,výdaje a cíle'!L22:L510) | BN22: =SUMIF('Navržená opatření,výdaje a cíle'!H22:H510;"2025I.";'Navržená opatření,výdaje a cíle'!L22:L510) | BO22: =SUMIF('Navržená opatření,výdaje a cíle'!H22:H510;"2025I.";'Navržená opatření,výdaje a cíle'!L22:L510) | BP22: =SUMIF('Navržená opatření,výdaje a cíle'!H22:H510;"2025I.";'Navržená opatření,výdaje a cíle'!L22:L510) | BQ22: =SUMIF('Navržená opatření,výdaje a cíle'!$H$22:$H$510,"2028IV.",'Navržená opatření,výdaje a cíle'!$L$22:$L$510) -> 0 | BR22: =SUMIF('Navržená opatření,výdaje a cíle'!H22:H510;"2025I.";'Navržená opatření,výdaje a cíle'!L22:L510) | BX22: =SUMIF('Navržená opatření,výdaje a cíle'!H22:H510;"2025I.";'Navržená opatření,výdaje a cíle'!L22:L510) | BY22: =SUMIF('Navržená opatření,výdaje a cíle'!H22:H510;"2025I.";'Navržená opatření,výdaje a cíle'!L22:L510) | BZ22: =SUMIF('Navržená opatření,výdaje a cíle'!H22:H510;"2025I.";'Navržená opatření,výdaje a cíle'!L22:L510) | CA22: =SUMIF('Navržená opatření,výdaje a cíle'!H22:H510;"2025I.";'Navržená opatření,výdaje a cíle'!L22:L510) | CB22: =SUMIF('Navržená opatření,výdaje a cíle'!H22:H510;"2025I.";'Navržená opatření,výdaje a cíle'!L22:L510) | CC22: =SUMIF('Navržená opatření,výdaje a cíle'!$H$22:$H$510,"2029IV.",'Navržená opatření,výdaje a cíle'!$L$22:$L$510) -> 0 | CD22: =SUMIF('Navržená opatření,výdaje a cíle'!H22:H510;"2025I.";'Navržená opatření,výdaje a cíle'!L22:L510) | CJ22: =SUMIF('Navržená opatření,výdaje a cíle'!H22:H510;"2025I.";'Navržená opatření,výdaje a cíle'!L22:L510) | CK22: =SUMIF('Navržená opatření,výdaje a cíle'!H22:H510;"2025I.";'Navržená opatření,výdaje a cíle'!L22:L510) | CL22: =SUMIF('Navržená opatření,výdaje a cíle'!H22:H510;"2025I.";'Navržená opatření,výdaje a cíle'!L22:L510) | CM22: =SUMIF('Navržená opatření,výdaje a cíle'!H22:H510;"2025I.";'Navržená opatření,výdaje a cíle'!L22:L510) | CN22: =SUMIF('Navržená opatření,výdaje a cíle'!H22:H510;"2025I.";'Navržená opatření,výdaje a cíle'!L22:L510) | CO22: =SUMIF('Navržená opatření,výdaje a cíle'!$H$22:$H$510,"2030IV.",'Navržená opatření,výdaje a cíle'!$L$22:$L$510) -> 0 | CP22: =SUMIF('Navržená opatření,výdaje a cíle'!H22:H510;"2025I.";'Navržená opatření,výdaje a cíle'!L22:L510) | CV22: =SUMIF('Navržená opatření,výdaje a cíle'!H22:H510;"2025I.";'Navržená opatření,výdaje a cíle'!L22:L510) | CW22: =SUMIF('Navržená opatření,výdaje a cíle'!H22:H510;"2025I.";'Navržená opatření,výdaje a cíle'!L22:L510) | CX22: =SUMIF('Navržená opatření,výdaje a cíle'!H22:H510;"2025I.";'Navržená opatření,výdaje a cíle'!L22:L510) | CY22: =SUMIF('Navržená opatření,výdaje a cíle'!H22:H510;"2025I.";'Navržená opatření,výdaje a cíle'!L22:L510) | CZ22: =SUMIF('Navržená opatření,výdaje a cíle'!H22:H510;"2025I.";'Navržená opatření,výdaje a cíle'!L22:L510) | DA22: =SUMIF('Navržená opatření,výdaje a cíle'!$H$22:$H$510,"2031IV.",'Navržená opatření,výdaje a cíle'!$L$22:$L$510) -> 0 | DB22: =SUMIF('Navržená opatření,výdaje a cíle'!H22:H510;"2025I.";'Navržená opatření,výdaje a cíle'!L22:L510) | DH22: =SUMIF('Navržená opatření,výdaje a cíle'!H22:H510;"2025I.";'Navržená opatření,výdaje a cíle'!L22:L510) | DI22: =SUMIF('Navržená opatření,výdaje a cíle'!H22:H510;"2025I.";'Navržená opatření,výdaje a cíle'!L22:L510) | DJ22: =SUMIF('Navržená opatření,výdaje a cíle'!H22:H510;"2025I.";'Navržená opatření,výdaje a cíle'!L22:L510) | DK22: =SUMIF('Navržená opatření,výdaje a cíle'!H22:H510;"2025I.";'Navržená opatření,výdaje a cíle'!L22:L510) | DL22: =SUMIF('Navržená opatření,výdaje a cíle'!H22:H510;"2025I.";'Navržená opatření,výdaje a cíle'!L22:L510) | DM22: =SUMIF('Navržená opatření,výdaje a cíle'!$H$22:$H$510,"2032IV.",'Navržená opatření,výdaje a cíle'!$L$22:$L$510) -> 0 | DN22: =SUMIF('Navržená opatření,výdaje a cíle'!H22:H510;"2025I.";'Navržená opatření,výdaje a cíle'!L22:L510) | DT22: =SUMIF('Navržená opatření,výdaje a cíle'!H22:H510;"2025I.";'Navržená opatření,výdaje a cíle'!L22:L510) | DU22: =SUMIF('Navržená opatření,výdaje a cíle'!H22:H510;"2025I.";'Navržená opatření,výdaje a cíle'!L22:L510) | DV22: =SUMIF('Navržená opatření,výdaje a cíle'!H22:H510;"2025I.";'Navržená opatření,výdaje a cíle'!L22:L510) | DW22: =SUMIF('Navržená opatření,výdaje a cíle'!H22:H510;"2025I.";'Navržená opatření,výdaje a cíle'!L22:L510) | DX22: =SUMIF('Navržená opatření,výdaje a cíle'!H22:H510;"2025I.";'Navržená opatření,výdaje a cíle'!L22:L510) | DY22: =SUMIF('Navržená opatření,výdaje a cíle'!$H$22:$H$510,"2033IV.",'Navržená opatření,výdaje a cíle'!$L$22:$L$510) -> 0 | DZ22: =SUMIF('Navržená opatření,výdaje a cíle'!H22:H510;"2025I.";'Navržená opatření,výdaje a cíle'!L22:L510) | EF22: =SUMIF('Navržená opatření,výdaje a cíle'!H22:H510;"2025I.";'Navržená opatření,výdaje a cíle'!L22:L510) | EG22: =SUMIF('Navržená opatření,výdaje a cíle'!H22:H510;"2025I.";'Navržená opatření,výdaje a cíle'!L22:L510) | EH22: =SUMIF('Navržená opatření,výdaje a cíle'!H22:H510;"2025I.";'Navržená opatření,výdaje a cíle'!L22:L510) | EI22: =SUMIF('Navržená opatření,výdaje a cíle'!H22:H510;"2025I.";'Navržená opatření,výdaje a cíle'!L22:L510) | EJ22: =SUMIF('Navržená opatření,výdaje a cíle'!H22:H510;"2025I.";'Navržená opatření,výdaje a cíle'!L22:L510) | EK22: =SUM(BE22:EJ22) -> 0
R23: V. Odbyt produkce | BE23: =SUMIF('Navržená opatření,výdaje a cíle'!$H$22:$H$510,"2027V.",'Navržená opatření,výdaje a cíle'!$L$22:$L$510) -> 0 | BF23: =SUMIF('Navržená opatření,výdaje a cíle'!H22:H510;"2025I.";'Navržená opatření,výdaje a cíle'!L22:L510) | BL23: =SUMIF('Navržená opatření,výdaje a cíle'!H22:H510;"2025I.";'Navržená opatření,výdaje a cíle'!L22:L510) | BM23: =SUMIF('Navržená opatření,výdaje a cíle'!H22:H510;"2025I.";'Navržená opatření,výdaje a cíle'!L22:L510) | BN23: =SUMIF('Navržená opatření,výdaje a cíle'!H22:H510;"2025I.";'Navržená opatření,výdaje a cíle'!L22:L510) | BO23: =SUMIF('Navržená opatření,výdaje a cíle'!H22:H510;"2025I.";'Navržená opatření,výdaje a cíle'!L22:L510) | BP23: =SUMIF('Navržená opatření,výdaje a cíle'!H22:H510;"2025I.";'Navržená opatření,výdaje a cíle'!L22:L510) | BQ23: =SUMIF('Navržená opatření,výdaje a cíle'!$H$22:$H$510,"2028V.",'Navržená opatření,výdaje a cíle'!$L$22:$L$510) -> 0 | BR23: =SUMIF('Navržená opatření,výdaje a cíle'!H22:H510;"2025I.";'Navržená opatření,výdaje a cíle'!L22:L510) | BX23: =SUMIF('Navržená opatření,výdaje a cíle'!H22:H510;"2025I.";'Navržená opatření,výdaje a cíle'!L22:L510) | BY23: =SUMIF('Navržená opatření,výdaje a cíle'!H22:H510;"2025I.";'Navržená opatření,výdaje a cíle'!L22:L510) | BZ23: =SUMIF('Navržená opatření,výdaje a cíle'!H22:H510;"2025I.";'Navržená opatření,výdaje a cíle'!L22:L510) | CA23: =SUMIF('Navržená opatření,výdaje a cíle'!H22:H510;"2025I.";'Navržená opatření,výdaje a cíle'!L22:L510) | CB23: =SUMIF('Navržená opatření,výdaje a cíle'!H22:H510;"2025I.";'Navržená opatření,výdaje a cíle'!L22:L510) | CC23: =SUMIF('Navržená opatření,výdaje a cíle'!$H$22:$H$510,"2029V.",'Navržená opatření,výdaje a cíle'!$L$22:$L$510) -> 0 | CD23: =SUMIF('Navržená opatření,výdaje a cíle'!H22:H510;"2025I.";'Navržená opatření,výdaje a cíle'!L22:L510) | CJ23: =SUMIF('Navržená opatření,výdaje a cíle'!H22:H510;"2025I.";'Navržená opatření,výdaje a cíle'!L22:L510) | CK23: =SUMIF('Navržená opatření,výdaje a cíle'!H22:H510;"2025I.";'Navržená opatření,výdaje a cíle'!L22:L510) | CL23: =SUMIF('Navržená opatření,výdaje a cíle'!H22:H510;"2025I.";'Navržená opatření,výdaje a cíle'!L22:L510) | CM23: =SUMIF('Navržená opatření,výdaje a cíle'!H22:H510;"2025I.";'Navržená opatření,výdaje a cíle'!L22:L510) | CN23: =SUMIF('Navržená opatření,výdaje a cíle'!H22:H510;"2025I.";'Navržená opatření,výdaje a cíle'!L22:L510) | CO23: =SUMIF('Navržená opatření,výdaje a cíle'!$H$22:$H$510,"2030V.",'Navržená opatření,výdaje a cíle'!$L$22:$L$510) -> 0 | CP23: =SUMIF('Navržená opatření,výdaje a cíle'!H22:H510;"2025I.";'Navržená opatření,výdaje a cíle'!L22:L510) | CV23: =SUMIF('Navržená opatření,výdaje a cíle'!H22:H510;"2025I.";'Navržená opatření,výdaje a cíle'!L22:L510) | CW23: =SUMIF('Navržená opatření,výdaje a cíle'!H22:H510;"2025I.";'Navržená opatření,výdaje a cíle'!L22:L510) | CX23: =SUMIF('Navržená opatření,výdaje a cíle'!H22:H510;"2025I.";'Navržená opatření,výdaje a cíle'!L22:L510) | CY23: =SUMIF('Navržená opatření,výdaje a cíle'!H22:H510;"2025I.";'Navržená opatření,výdaje a cíle'!L22:L510) | CZ23: =SUMIF('Navržená opatření,výdaje a cíle'!H22:H510;"2025I.";'Navržená opatření,výdaje a cíle'!L22:L510) | DA23: =SUMIF('Navržená opatření,výdaje a cíle'!$H$22:$H$510,"2031V.",'Navržená opatření,výdaje a cíle'!$L$22:$L$510) -> 0 | DB23: =SUMIF('Navržená opatření,výdaje a cíle'!H22:H510;"2025I.";'Navržená opatření,výdaje a cíle'!L22:L510) | DH23: =SUMIF('Navržená opatření,výdaje a cíle'!H22:H510;"2025I.";'Navržená opatření,výdaje a cíle'!L22:L510) | DI23: =SUMIF('Navržená opatření,výdaje a cíle'!H22:H510;"2025I.";'Navržená opatření,výdaje a cíle'!L22:L510) | DJ23: =SUMIF('Navržená opatření,výdaje a cíle'!H22:H510;"2025I.";'Navržená opatření,výdaje a cíle'!L22:L510) | DK23: =SUMIF('Navržená opatření,výdaje a cíle'!H22:H510;"2025I.";'Navržená opatření,výdaje a cíle'!L22:L510) | DL23: =SUMIF('Navržená opatření,výdaje a cíle'!H22:H510;"2025I.";'Navržená opatření,výdaje a cíle'!L22:L510) | DM23: =SUMIF('Navržená opatření,výdaje a cíle'!$H$22:$H$510,"2032V.",'Navržená opatření,výdaje a cíle'!$L$22:$L$510) -> 0 | DN23: =SUMIF('Navržená opatření,výdaje a cíle'!H22:H510;"2025I.";'Navržená opatření,výdaje a cíle'!L22:L510) | DT23: =SUMIF('Navržená opatření,výdaje a cíle'!H22:H510;"2025I.";'Navržená opatření,výdaje a cíle'!L22:L510) | DU23: =SUMIF('Navržená opatření,výdaje a cíle'!H22:H510;"2025I.";'Navržená opatření,výdaje a cíle'!L22:L510) | DV23: =SUMIF('Navržená opatření,výdaje a cíle'!H22:H510;"2025I.";'Navržená opatření,výdaje a cíle'!L22:L510) | DW23: =SUMIF('Navržená opatření,výdaje a cíle'!H22:H510;"2025I.";'Navržená opatření,výdaje a cíle'!L22:L510) | DX23: =SUMIF('Navržená opatření,výdaje a cíle'!H22:H510;"2025I.";'Navržená opatření,výdaje a cíle'!L22:L510) | DY23: =SUMIF('Navržená opatření,výdaje a cíle'!$H$22:$H$510,"2033V.",'Navržená opatření,výdaje a cíle'!$L$22:$L$510) -> 0 | DZ23: =SUMIF('Navržená opatření,výdaje a cíle'!H22:H510;"2025I.";'Navržená opatření,výdaje a cíle'!L22:L510) | EF23: =SUMIF('Navržená opatření,výdaje a cíle'!H22:H510;"2025I.";'Navržená opatření,výdaje a cíle'!L22:L510) | EG23: =SUMIF('Navržená opatření,výdaje a cíle'!H22:H510;"2025I.";'Navržená opatření,výdaje a cíle'!L22:L510) | EH23: =SUMIF('Navržená opatření,výdaje a cíle'!H22:H510;"2025I.";'Navržená opatření,výdaje a cíle'!L22:L510) | EI23: =SUMIF('Navržená opatření,výdaje a cíle'!H22:H510;"2025I.";'Navržená opatření,výdaje a cíle'!L22:L510) | EJ23: =SUMIF('Navržená opatření,výdaje a cíle'!H22:H510;"2025I.";'Navržená opatření,výdaje a cíle'!L22:L510) | EK23: =SUM(BE23:EJ23) -> 0
R24: VI. Propagace a zvyšování spotřeby produktů | BE24: =SUMIF('Navržená opatření,výdaje a cíle'!$H$22:$H$510,"2027VI.",'Navržená opatření,výdaje a cíle'!$L$22:$L$510) -> 0 | BF24: =SUMIF('Navržená opatření,výdaje a cíle'!H22:H510;"2025I.";'Navržená opatření,výdaje a cíle'!L22:L510) | BL24: =SUMIF('Navržená opatření,výdaje a cíle'!H22:H510;"2025I.";'Navržená opatření,výdaje a cíle'!L22:L510) | BM24: =SUMIF('Navržená opatření,výdaje a cíle'!H22:H510;"2025I.";'Navržená opatření,výdaje a cíle'!L22:L510) | BN24: =SUMIF('Navržená opatření,výdaje a cíle'!H22:H510;"2025I.";'Navržená opatření,výdaje a cíle'!L22:L510) | BO24: =SUMIF('Navržená opatření,výdaje a cíle'!H22:H510;"2025I.";'Navržená opatření,výdaje a cíle'!L22:L510) | BP24: =SUMIF('Navržená opatření,výdaje a cíle'!H22:H510;"2025I.";'Navržená opatření,výdaje a cíle'!L22:L510) | BQ24: =SUMIF('Navržená opatření,výdaje a cíle'!$H$22:$H$510,"2028VI.",'Navržená opatření,výdaje a cíle'!$L$22:$L$510) -> 0 | BR24: =SUMIF('Navržená opatření,výdaje a cíle'!H22:H510;"2025I.";'Navržená opatření,výdaje a cíle'!L22:L510) | BX24: =SUMIF('Navržená opatření,výdaje a cíle'!H22:H510;"2025I.";'Navržená opatření,výdaje a cíle'!L22:L510) | BY24: =SUMIF('Navržená opatření,výdaje a cíle'!H22:H510;"2025I.";'Navržená opatření,výdaje a cíle'!L22:L510) | BZ24: =SUMIF('Navržená opatření,výdaje a cíle'!H22:H510;"2025I.";'Navržená opatření,výdaje a cíle'!L22:L510) | CA24: =SUMIF('Navržená opatření,výdaje a cíle'!H22:H510;"2025I.";'Navržená opatření,výdaje a cíle'!L22:L510) | CB24: =SUMIF('Navržená opatření,výdaje a cíle'!H22:H510;"2025I.";'Navržená opatření,výdaje a cíle'!L22:L510) | CC24: =SUMIF('Navržená opatření,výdaje a cíle'!$H$22:$H$510,"2029VI.",'Navržená opatření,výdaje a cíle'!$L$22:$L$510) -> 0 | CD24: =SUMIF('Navržená opatření,výdaje a cíle'!H22:H510;"2025I.";'Navržená opatření,výdaje a cíle'!L22:L510) | CJ24: =SUMIF('Navržená opatření,výdaje a cíle'!H22:H510;"2025I.";'Navržená opatření,výdaje a cíle'!L22:L510) | CK24: =SUMIF('Navržená opatření,výdaje a cíle'!H22:H510;"2025I.";'Navržená opatření,výdaje a cíle'!L22:L510) | CL24: =SUMIF('Navržená opatření,výdaje a cíle'!H22:H510;"2025I.";'Navržená opatření,výdaje a cíle'!L22:L510) | CM24: =SUMIF('Navržená opatření,výdaje a cíle'!H22:H510;"2025I.";'Navržená opatření,výdaje a cíle'!L22:L510) | CN24: =SUMIF('Navržená opatření,výdaje a cíle'!H22:H510;"2025I.";'Navržená opatření,výdaje a cíle'!L22:L510) | CO24: =SUMIF('Navržená opatření,výdaje a cíle'!$H$22:$H$510,"2030VI.",'Navržená opatření,výdaje a cíle'!$L$22:$L$510) -> 0 | CP24: =SUMIF('Navržená opatření,výdaje a cíle'!H22:H510;"2025I.";'Navržená opatření,výdaje a cíle'!L22:L510) | CV24: =SUMIF('Navržená opatření,výdaje a cíle'!H22:H510;"2025I.";'Navržená opatření,výdaje a cíle'!L22:L510) | CW24: =SUMIF('Navržená opatření,výdaje a cíle'!H22:H510;"2025I.";'Navržená opatření,výdaje a cíle'!L22:L510) | CX24: =SUMIF('Navržená opatření,výdaje a cíle'!H22:H510;"2025I.";'Navržená opatření,výdaje a cíle'!L22:L510) | CY24: =SUMIF('Navržená opatření,výdaje a cíle'!H22:H510;"2025I.";'Navržená opatření,výdaje a cíle'!L22:L510) | CZ24: =SUMIF('Navržená opatření,výdaje a cíle'!H22:H510;"2025I.";'Navržená opatření,výdaje a cíle'!L22:L510) | DA24: =SUMIF('Navržená opatření,výdaje a cíle'!$H$22:$H$510,"2031VI.",'Navržená opatření,výdaje a cíle'!$L$22:$L$510) -> 0 | DB24: =SUMIF('Navržená opatření,výdaje a cíle'!H22:H510;"2025I.";'Navržená opatření,výdaje a cíle'!L22:L510) | DH24: =SUMIF('Navržená opatření,výdaje a cíle'!H22:H510;"2025I.";'Navržená opatření,výdaje a cíle'!L22:L510) | DI24: =SUMIF('Navržená opatření,výdaje a cíle'!H22:H510;"2025I.";'Navržená opatření,výdaje a cíle'!L22:L510) | DJ24: =SUMIF('Navržená opatření,výdaje a cíle'!H22:H510;"2025I.";'Navržená opatření,výdaje a cíle'!L22:L510) | DK24: =SUMIF('Navržená opatření,výdaje a cíle'!H22:H510;"2025I.";'Navržená opatření,výdaje a cíle'!L22:L510) | DL24: =SUMIF('Navržená opatření,výdaje a cíle'!H22:H510;"2025I.";'Navržená opatření,výdaje a cíle'!L22:L510) | DM24: =SUMIF('Navržená opatření,výdaje a cíle'!$H$22:$H$510,"2032VI.",'Navržená opatření,výdaje a cíle'!$L$22:$L$510) -> 0 | DN24: =SUMIF('Navržená opatření,výdaje a cíle'!H22:H510;"2025I.";'Navržená opatření,výdaje a cíle'!L22:L510) | DT24: =SUMIF('Navržená opatření,výdaje a cíle'!H22:H510;"2025I.";'Navržená opatření,výdaje a cíle'!L22:L510) | DU24: =SUMIF('Navržená opatření,výdaje a cíle'!H22:H510;"2025I.";'Navržená opatření,výdaje a cíle'!L22:L510) | DV24: =SUMIF('Navržená opatření,výdaje a cíle'!H22:H510;"2025I.";'Navržená opatření,výdaje a cíle'!L22:L510) | DW24: =SUMIF('Navržená opatření,výdaje a cíle'!H22:H510;"2025I.";'Navržená opatření,výdaje a cíle'!L22:L510) | DX24: =SUMIF('Navržená opatření,výdaje a cíle'!H22:H510;"2025I.";'Navržená opatření,výdaje a cíle'!L22:L510) | DY24: =SUMIF('Navržená opatření,výdaje a cíle'!$H$22:$H$510,"2033VI.",'Navržená opatření,výdaje a cíle'!$L$22:$L$510) -> 0 | DZ24: =SUMIF('Navržená opatření,výdaje a cíle'!H22:H510;"2025I.";'Navržená opatření,výdaje a cíle'!L22:L510) | EF24: =SUMIF('Navržená opatření,výdaje a cíle'!H22:H510;"2025I.";'Navržená opatření,výdaje a cíle'!L22:L510) | EG24: =SUMIF('Navržená opatření,výdaje a cíle'!H22:H510;"2025I.";'Navržená opatření,výdaje a cíle'!L22:L510) | EH24: =SUMIF('Navržená opatření,výdaje a cíle'!H22:H510;"2025I.";'Navržená opatření,výdaje a cíle'!L22:L510) | EI24: =SUMIF('Navržená opatření,výdaje a cíle'!H22:H510;"2025I.";'Navržená opatření,výdaje a cíle'!L22:L510) | EJ24: =SUMIF('Navržená opatření,výdaje a cíle'!H22:H510;"2025I.";'Navržená opatření,výdaje a cíle'!L22:L510) | EK24: =SUM(BE24:EJ24) -> 0
R25: VII. Kvalita produkce: režimy jakosti | BE25: =SUMIF('Navržená opatření,výdaje a cíle'!$H$22:$H$510,"2027VII.",'Navržená opatření,výdaje a cíle'!$L$22:$L$510) -> 0 | BF25: =SUMIF('Navržená opatření,výdaje a cíle'!H22:H510;"2025I.";'Navržená opatření,výdaje a cíle'!L22:L510) | BL25: =SUMIF('Navržená opatření,výdaje a cíle'!H22:H510;"2025I.";'Navržená opatření,výdaje a cíle'!L22:L510) | BM25: =SUMIF('Navržená opatření,výdaje a cíle'!H22:H510;"2025I.";'Navržená opatření,výdaje a cíle'!L22:L510) | BN25: =SUMIF('Navržená opatření,výdaje a cíle'!H22:H510;"2025I.";'Navržená opatření,výdaje a cíle'!L22:L510) | BO25: =SUMIF('Navržená opatření,výdaje a cíle'!H22:H510;"2025I.";'Navržená opatření,výdaje a cíle'!L22:L510) | BP25: =SUMIF('Navržená opatření,výdaje a cíle'!H22:H510;"2025I.";'Navržená opatření,výdaje a cíle'!L22:L510) | BQ25: =SUMIF('Navržená opatření,výdaje a cíle'!$H$22:$H$510,"2028VII.",'Navržená opatření,výdaje a cíle'!$L$22:$L$510) -> 0 | BR25: =SUMIF('Navržená opatření,výdaje a cíle'!H22:H510;"2025I.";'Navržená opatření,výdaje a cíle'!L22:L510) | BX25: =SUMIF('Navržená opatření,výdaje a cíle'!H22:H510;"2025I.";'Navržená opatření,výdaje a cíle'!L22:L510) | BY25: =SUMIF('Navržená opatření,výdaje a cíle'!H22:H510;"2025I.";'Navržená opatření,výdaje a cíle'!L22:L510) | BZ25: =SUMIF('Navržená opatření,výdaje a cíle'!H22:H510;"2025I.";'Navržená opatření,výdaje a cíle'!L22:L510) | CA25: =SUMIF('Navržená opatření,výdaje a cíle'!H22:H510;"2025I.";'Navržená opatření,výdaje a cíle'!L22:L510) | CB25: =SUMIF('Navržená opatření,výdaje a cíle'!H22:H510;"2025I.";'Navržená opatření,výdaje a cíle'!L22:L510) | CC25: =SUMIF('Navržená opatření,výdaje a cíle'!$H$22:$H$510,"2029VII.",'Navržená opatření,výdaje a cíle'!$L$22:$L$510) -> 0 | CD25: =SUMIF('Navržená opatření,výdaje a cíle'!H22:H510;"2025I.";'Navržená opatření,výdaje a cíle'!L22:L510) | CJ25: =SUMIF('Navržená opatření,výdaje a cíle'!H22:H510;"2025I.";'Navržená opatření,výdaje a cíle'!L22:L510) | CK25: =SUMIF('Navržená opatření,výdaje a cíle'!H22:H510;"2025I.";'Navržená opatření,výdaje a cíle'!L22:L510) | CL25: =SUMIF('Navržená opatření,výdaje a cíle'!H22:H510;"2025I.";'Navržená opatření,výdaje a cíle'!L22:L510) | CM25: =SUMIF('Navržená opatření,výdaje a cíle'!H22:H510;"2025I.";'Navržená opatření,výdaje a cíle'!L22:L510) | CN25: =SUMIF('Navržená opatření,výdaje a cíle'!H22:H510;"2025I.";'Navržená opatření,výdaje a cíle'!L22:L510) | CO25: =SUMIF('Navržená opatření,výdaje a cíle'!$H$22:$H$510,"2030VII.",'Navržená opatření,výdaje a cíle'!$L$22:$L$510) -> 0 | CP25: =SUMIF('Navržená opatření,výdaje a cíle'!H22:H510;"2025I.";'Navržená opatření,výdaje a cíle'!L22:L510) | CV25: =SUMIF('Navržená opatření,výdaje a cíle'!H22:H510;"2025I.";'Navržená opatření,výdaje a cíle'!L22:L510) | CW25: =SUMIF('Navržená opatření,výdaje a cíle'!H22:H510;"2025I.";'Navržená opatření,výdaje a cíle'!L22:L510) | CX25: =SUMIF('Navržená opatření,výdaje a cíle'!H22:H510;"2025I.";'Navržená opatření,výdaje a cíle'!L22:L510) | CY25: =SUMIF('Navržená opatření,výdaje a cíle'!H22:H510;"2025I.";'Navržená opatření,výdaje a cíle'!L22:L510) | CZ25: =SUMIF('Navržená opatření,výdaje a cíle'!H22:H510;"2025I.";'Navržená opatření,výdaje a cíle'!L22:L510) | DA25: =SUMIF('Navržená opatření,výdaje a cíle'!$H$22:$H$510,"2031VII.",'Navržená opatření,výdaje a cíle'!$L$22:$L$510) -> 0 | DB25: =SUMIF('Navržená opatření,výdaje a cíle'!H22:H510;"2025I.";'Navržená opatření,výdaje a cíle'!L22:L510) | DH25: =SUMIF('Navržená opatření,výdaje a cíle'!H22:H510;"2025I.";'Navržená opatření,výdaje a cíle'!L22:L510) | DI25: =SUMIF('Navržená opatření,výdaje a cíle'!H22:H510;"2025I.";'Navržená opatření,výdaje a cíle'!L22:L510) | DJ25: =SUMIF('Navržená opatření,výdaje a cíle'!H22:H510;"2025I.";'Navržená opatření,výdaje a cíle'!L22:L510) | DK25: =SUMIF('Navržená opatření,výdaje a cíle'!H22:H510;"2025I.";'Navržená opatření,výdaje a cíle'!L22:L510) | DL25: =SUMIF('Navržená opatření,výdaje a cíle'!H22:H510;"2025I.";'Navržená opatření,výdaje a cíle'!L22:L510) | DM25: =SUMIF('Navržená opatření,výdaje a cíle'!$H$22:$H$510,"2032VII.",'Navržená opatření,výdaje a cíle'!$L$22:$L$510) -> 0 | DN25: =SUMIF('Navržená opatření,výdaje a cíle'!H22:H510;"2025I.";'Navržená opatření,výdaje a cíle'!L22:L510) | DT25: =SUMIF('Navržená opatření,výdaje a cíle'!H22:H510;"2025I.";'Navržená opatření,výdaje a cíle'!L22:L510) | DU25: =SUMIF('Navržená opatření,výdaje a cíle'!H22:H510;"2025I.";'Navržená opatření,výdaje a cíle'!L22:L510) | DV25: =SUMIF('Navržená opatření,výdaje a cíle'!H22:H510;"2025I.";'Navržená opatření,výdaje a cíle'!L22:L510) | DW25: =SUMIF('Navržená opatření,výdaje a cíle'!H22:H510;"2025I.";'Navržená opatření,výdaje a cíle'!L22:L510) | DX25: =SUMIF('Navržená opatření,výdaje a cíle'!H22:H510;"2025I.";'Navržená opatření,výdaje a cíle'!L22:L510) | DY25: =SUMIF('Navržená opatření,výdaje a cíle'!$H$22:$H$510,"2033VII.",'Navržená opatření,výdaje a cíle'!$L$22:$L$510) -> 0 | DZ25: =SUMIF('Navržená opatření,výdaje a cíle'!H22:H510;"2025I.";'Navržená opatření,výdaje a cíle'!L22:L510) | EF25: =SUMIF('Navržená opatření,výdaje a cíle'!H22:H510;"2025I.";'Navržená opatření,výdaje a cíle'!L22:L510) | EG25: =SUMIF('Navržená opatření,výdaje a cíle'!H22:H510;"2025I.";'Navržená opatření,výdaje a cíle'!L22:L510) | EH25: =SUMIF('Navržená opatření,výdaje a cíle'!H22:H510;"2025I.";'Navržená opatření,výdaje a cíle'!L22:L510) | EI25: =SUMIF('Navržená opatření,výdaje a cíle'!H22:H510;"2025I.";'Navržená opatření,výdaje a cíle'!L22:L510) | EJ25: =SUMIF('Navržená opatření,výdaje a cíle'!H22:H510;"2025I.";'Navržená opatření,výdaje a cíle'!L22:L510) | EK25: =SUM(BE25:EJ25) -> 0
