Workbook
Name č. 1: #REF!
Name č. 1: #REF!
Name č. 2: #REF!
Name č. 2: #REF!
Name č. 3: #REF!
Name č. 3: #REF!
Name č. 4: #REF!
Name č. 4: #REF!
Name č. 5: #REF!
Name č. 5: #REF!
Name č. 6: #REF!
Name č. 6: #REF!
Name č. 7: #REF!
Name č. 7: #REF!
Name č.1: 'Přehled opatření a výdajů'!#REF!
Name č.10: 'Přehled opatření a výdajů'!#REF!
Name č.10: '[1]Navržená opatření,výdaje a cíle'!#REF!
Name č.11: 'Přehled opatření a výdajů'!#REF!
Name č.12: 'Přehled opatření a výdajů'!#REF!
Name č.13: 'Přehled opatření a výdajů'!#REF!
Name č.14: 'Přehled opatření a výdajů'!#REF!
Name č.15: 'Přehled opatření a výdajů'!#REF!
Name č.2: 'Přehled opatření a výdajů'!#REF!
Name č.3: 'Přehled opatření a výdajů'!#REF!
Name č.4: 'Přehled opatření a výdajů'!#REF!
Name č.5: 'Přehled opatření a výdajů'!#REF!
Name č.6: 'Přehled opatření a výdajů'!#REF!
Name č.7: 'Přehled opatření a výdajů'!#REF!
Name č.8: 'Přehled opatření a výdajů'!#REF!
Name č.9: 'Přehled opatření a výdajů'!#REF!
Name I.: 'Přehled opatření a výdajů'!#REF!
Name I.: 'Přehled uplatňovaných výdajů'!$E$723:$E$737
Name II.: 'Přehled opatření a výdajů'!#REF!
Name II.: 'Přehled uplatňovaných výdajů'!$F$723:$F$729
Name III.: 'Přehled opatření a výdajů'!#REF!
Name III.: 'Přehled uplatňovaných výdajů'!$G$723:$G$731
Name IV.: 'Přehled opatření a výdajů'!#REF!
Name IV.: 'Přehled uplatňovaných výdajů'!$H$723:$H$729
Name IX.: 'Přehled opatření a výdajů'!#REF!
Name V: 'Přehled uplatňovaných výdajů'!$I$723:$I$726
Name V.: 'Přehled opatření a výdajů'!#REF!
Name V.: 'Přehled uplatňovaných výdajů'!$I$723:$I$727
Name VI.: 'Přehled opatření a výdajů'!#REF!
Name VI.: 'Přehled uplatňovaných výdajů'!$J$723:$J$729
Name VII.: 'Přehled opatření a výdajů'!#REF!
Name VII.: 'Přehled uplatňovaných výdajů'!$K$723
Name VIII.: 'Přehled opatření a výdajů'!#REF!
Name X.: 'Přehled opatření a výdajů'!#REF!
Name XI.: 'Přehled opatření a výdajů'!#REF!
Name XI.: '[1]Navržená opatření,výdaje a cíle'!#REF!
Name XII.: 'Přehled opatření a výdajů'!#REF!
Name XIII.: 'Přehled opatření a výdajů'!#REF!
Name XIV.: 'Přehled opatření a výdajů'!#REF!
Name XV.: 'Přehled opatření a výdajů'!#REF!

Sheet Přehled uplatňovaných výdajů
H7: Příloha č. 5 - Přehled uplatňovaných výdajů (OP okrasné rostliny) | T7: Ve Smečkách 33 110 00 Praha 1 tel: + 420 222 871 871 datová schránka: jn2aiqd
E10: 1. Identifikační číslo žadatele
E15: 2. Přehled uplatňovaných výdajů
E17: * Uvést sledované cíle u jednotlivých výdajů v souladu se schváleným OPP
E18: Číslo opatření dle NV | F18: Číslo výdaje dle NV | G18: Název výdaje dle NV (vyplní se automaticky) | H18: Název konkrétního výdaje | I18: Podkladový dokument | J18: Investiční výdaj bez DPH (Kč) | K18: Neinvestiční výdaj bez DPH (Kč) | L18: % podpory dle čl. 68 NEPR 2021/2115 | M18: Podpora na investiční výdaj (Kč) | N18: Podpora na neinvestiční výdaj (Kč) | O18: Datum platby z provozního fondu | P18: Sledovaný cíl dle čl. 46 NEPR 2021/2115* | Q18: Sledovaný cíl dle čl. 12 NK 2022/126* | R18: Sledovaný cíl dle čl. 14 NK 2022/126* | S18: IČO členů využívající výdaj (jednotlivá IČ oddělovat čárkou) | T18: Odůvodnění nezbytnosti pořízení neinvestičních výdajů a jakým způsobem byl vybrán konečný dodavatel (k investičním výdajům se dokládá Příloha č. 10)
G19: =IFERROR(VLOOKUP(E19&"+"&F19,$X$19:$AA$69,4,0),"") | M19: =IFERROR(J19/100*$W19,"") | N19: =IFERROR(K19/100*$W19,"") | W19: =IF(L19="50 %","50",IF(L19="60 %","60","")) | X19: =Y19&"+"&Z19 -> I.+1. | Y19: I. | Z19: 1. | AA19: Výdaje na pořízení výpočetní techniky
G20: =IFERROR(VLOOKUP(E20&"+"&F20,$X$19:$AA$69,4,0),"") | M20: =IFERROR(J20/100*$W20,"") | N20: =IFERROR(K20/100*$W20,"") | W20: =IF(L20="50 %","50",IF(L20="60 %","60","")) | X20: =Y20&"+"&Z20 -> I.+2. | Y20: I. | Z20: 2. | AA20: Výdaje na pořízení softwarového vybavení
G21: =IFERROR(VLOOKUP(E21&"+"&F21,$X$19:$AA$69,4,0),"") | M21: =IFERROR(J21/100*$W21,"") | N21: =IFERROR(K21/100*$W21,"") | W21: =IF(L21="50 %","50",IF(L21="60 %","60","")) | X21: =Y21&"+"&Z21 -> I.+3. | Y21: I. | Z21: 3. | AA21: Výdaje na pořízení technologií pro přípravu půdy a pěstebních substrátů
G22: =IFERROR(VLOOKUP(E22&"+"&F22,$X$19:$AA$69,4,0),"") | M22: =IFERROR(J22/100*$W22,"") | N22: =IFERROR(K22/100*$W22,"") | W22: =IF(L22="50 %","50",IF(L22="60 %","60","")) | X22: =Y22&"+"&Z22 -> I.+4. | Y22: I. | Z22: 4. | AA22: Výdaje na pořízení technologií pro ošetřování a ochranu rostlin
G23: =IFERROR(VLOOKUP(E23&"+"&F23,$X$19:$AA$69,4,0),"") | M23: =IFERROR(J23/100*$W23,"") | N23: =IFERROR(K23/100*$W23,"") | W23: =IF(L23="50 %","50",IF(L23="60 %","60","")) | X23: =Y23&"+"&Z23 -> I.+5. | Y23: I. | Z23: 5. | AA23: Výdaje na pořízení technologií pro sklizeň rostlin
G24: =IFERROR(VLOOKUP(E24&"+"&F24,$X$19:$AA$69,4,0),"") | M24: =IFERROR(J24/100*$W24,"") | N24: =IFERROR(K24/100*$W24,"") | W24: =IF(L24="50 %","50",IF(L24="60 %","60","")) | X24: =Y24&"+"&Z24 -> I.+6. | Y24: I. | Z24: 6. | AA24: Výdaje na pořízení techniky pro dopravu v rámci organizace producentů
G25: =IFERROR(VLOOKUP(E25&"+"&F25,$X$19:$AA$69,4,0),"") | M25: =IFERROR(J25/100*$W25,"") | N25: =IFERROR(K25/100*$W25,"") | W25: =IF(L25="50 %","50",IF(L25="60 %","60","")) | X25: =Y25&"+"&Z25 -> I.+7. | Y25: I. | Z25: 7. | AA25: Výdaje na výzkumnou činnost a podporu inovativních metod produkce rostlin
G26: =IFERROR(VLOOKUP(E26&"+"&F26,$X$19:$AA$69,4,0),"") | M26: =IFERROR(J26/100*$W26,"") | N26: =IFERROR(K26/100*$W26,"") | W26: =IF(L26="50 %","50",IF(L26="60 %","60","")) | X26: =Y26&"+"&Z26 -> I.+8. | Y26: I. | Z26: 8. | AA26: Výdaje na pořízení skleníků, fóliovníků a jejich vybavení včetně závlahy, topení, chlazení, ventilace, clon, osvětlení, pěstebních žlabů, HW a SW pro řízení klimatu, postřikovače, stroje pro čištění skleníku nebo výdaje na vybavení ploch s kontejnery
G27: =IFERROR(VLOOKUP(E27&"+"&F27,$X$19:$AA$69,4,0),"") | M27: =IFERROR(J27/100*$W27,"") | N27: =IFERROR(K27/100*$W27,"") | W27: =IF(L27="50 %","50",IF(L27="60 %","60","")) | X27: =Y27&"+"&Z27 -> I.+9. | Y27: I. | Z27: 9. | AA27: Výdaje na budování systémů síťových a foliových krytů
G28: =IFERROR(VLOOKUP(E28&"+"&F28,$X$19:$AA$69,4,0),"") | M28: =IFERROR(J28/100*$W28,"") | N28: =IFERROR(K28/100*$W28,"") | W28: =IF(L28="50 %","50",IF(L28="60 %","60","")) | X28: =Y28&"+"&Z28 -> I.+10. | Y28: I. | Z28: 10. | AA28: Výdaje na pořízení závlahových technologií včetně příslušenství (kapková závlaha, mikropostřik, závlahové systémy s uzavřeným oběhem vody, mobilní závlah. zařízení, záplavové stoly, nádrže na závlah. vodu, systémy na filtraci, úpravu a desinfekci vody
G29: =IFERROR(VLOOKUP(E29&"+"&F29,$X$19:$AA$69,4,0),"") | M29: =IFERROR(J29/100*$W29,"") | N29: =IFERROR(K29/100*$W29,"") | W29: =IF(L29="50 %","50",IF(L29="60 %","60","")) | X29: =Y29&"+"&Z29 -> I.+11. | Y29: I. | Z29: 11. | AA29: Výdaje na pořízení dodatečné nástavby nákladních vozů vybavené chladícími boxy nebo regulovanou atmosférou
G30: =IFERROR(VLOOKUP(E30&"+"&F30,$X$19:$AA$69,4,0),"") | M30: =IFERROR(J30/100*$W30,"") | N30: =IFERROR(K30/100*$W30,"") | W30: =IF(L30="50 %","50",IF(L30="60 %","60","")) | X30: =Y30&"+"&Z30 -> I.+12. | Y30: I. | Z30: 12. | AA30: Výdaje na pořízení expedičních vozíků
... G69: =IFERROR(VLOOKUP(E69&"+"&F69,$X$19:$AA$69,4,0),"") | M69: =IFERROR(J69/100*$W69,"") | N69: =IFERROR(K69/100*$W69,"") | W69: =IF(L69="50 %","50",IF(L69="60 %","60","")) | X69: =Y69&"+"&Z69 -> VII.+1. | Y69: VII. | Z69: 1. | AA69: Výdaje spojené s pojištěním sklizně a produkce pro uznané produkty v případě ztrát v důsledku přírodních katastrof, nepříznivých klimatických jevů a napadení chorobami nebo škůdci do výše 80 % celkové podpory z veřejných prostředků
G70: =IFERROR(VLOOKUP(E70&"+"&F70,$X$19:$AA$69,4,0),"") | M70: =IFERROR(J70/100*$W70,"") | N70: =IFERROR(K70/100*$W70,"") | W70: =IF(L70="50 %","50",IF(L70="60 %","60",""))
G71: =IFERROR(VLOOKUP(E71&"+"&F71,$X$19:$AA$69,4,0),"") | M71: =IFERROR(J71/100*$W71,"") | N71: =IFERROR(K71/100*$W71,"") | W71: =IF(L71="50 %","50",IF(L71="60 %","60",""))
G72: =IFERROR(VLOOKUP(E72&"+"&F72,$X$19:$AA$69,4,0),"") | M72: =IFERROR(J72/100*$W72,"") | N72: =IFERROR(K72/100*$W72,"") | W72: =IF(L72="50 %","50",IF(L72="60 %","60",""))
G73: =IFERROR(VLOOKUP(E73&"+"&F73,$X$19:$AA$69,4,0),"") | M73: =IFERROR(J73/100*$W73,"") | N73: =IFERROR(K73/100*$W73,"") | W73: =IF(L73="50 %","50",IF(L73="60 %","60",""))
G74: =IFERROR(VLOOKUP(E74&"+"&F74,$X$19:$AA$69,4,0),"") | M74: =IFERROR(J74/100*$W74,"") | N74: =IFERROR(K74/100*$W74,"") | W74: =IF(L74="50 %","50",IF(L74="60 %","60",""))
G75: =IFERROR(VLOOKUP(E75&"+"&F75,$X$19:$AA$69,4,0),"") | M75: =IFERROR(J75/100*$W75,"") | N75: =IFERROR(K75/100*$W75,"") | W75: =IF(L75="50 %","50",IF(L75="60 %","60",""))
G76: =IFERROR(VLOOKUP(E76&"+"&F76,$X$19:$AA$69,4,0),"") | M76: =IFERROR(J76/100*$W76,"") | N76: =IFERROR(K76/100*$W76,"") | W76: =IF(L76="50 %","50",IF(L76="60 %","60",""))
G77: =IFERROR(VLOOKUP(E77&"+"&F77,$X$19:$AA$69,4,0),"") | M77: =IFERROR(J77/100*$W77,"") | N77: =IFERROR(K77/100*$W77,"") | W77: =IF(L77="50 %","50",IF(L77="60 %","60",""))
G78: =IFERROR(VLOOKUP(E78&"+"&F78,$X$19:$AA$69,4,0),"") | M78: =IFERROR(J78/100*$W78,"") | N78: =IFERROR(K78/100*$W78,"") | W78: =IF(L78="50 %","50",IF(L78="60 %","60",""))
G79: =IFERROR(VLOOKUP(E79&"+"&F79,$X$19:$AA$69,4,0),"") | M79: =IFERROR(J79/100*$W79,"") | N79: =IFERROR(K79/100*$W79,"") | W79: =IF(L79="50 %","50",IF(L79="60 %","60",""))
G80: =IFERROR(VLOOKUP(E80&"+"&F80,$X$19:$AA$69,4,0),"") | M80: =IFERROR(J80/100*$W80,"") | N80: =IFERROR(K80/100*$W80,"") | W80: =IF(L80="50 %","50",IF(L80="60 %","60",""))
G81: =IFERROR(VLOOKUP(E81&"+"&F81,$X$19:$AA$69,4,0),"") | M81: =IFERROR(J81/100*$W81,"") | N81: =IFERROR(K81/100*$W81,"") | W81: =IF(L81="50 %","50",IF(L81="60 %","60",""))
... G719: =IFERROR(VLOOKUP(E719&"+"&F719,$X$19:$AA$69,4,0),"") | M719: =IFERROR(J719/100*$W719,"") | N719: =IFERROR(K719/100*$W719,"") | W719: =IF(L719="50 %","50",IF(L719="60 %","60",""))
E721: S1080058.03
E722: I. | F722: II. | G722: III. | H722: IV. | I722: V. | J722: VI. | K722: VII. | N722: Procenta
E723: 1. | F723: 1. | G723: 1. | H723: 1. | I723: 1. | J723: 1. | K723: 1. | N723: 50 %
E724: 2. | F724: 2. | G724: 2. | H724: 2. | I724: 2. | J724: 2. | N724: 60 %
E725: 3. | F725: 3. | G725: 3. | H725: 3. | I725: 3. | J725: 3.
E726: 4. | F726: 4. | G726: 4. | H726: 4. | I726: 4. | J726: 4.
E727: 5. | F727: 5. | G727: 5. | H727: 5. | I727: 5. | J727: 5.
E728: 6. | F728: 6. | G728: 6. | H728: 6. | J728: 6.
E729: 7. | F729: 7. | G729: 7. | H729: 7. | J729: 7.
...

Sheet Soupis opatření,výdajů a podpor
H7: Příloha č. 5 - Přehled uplatňovaných výdajů (OP okrasné rostliny) | M7: Ve Smečkách 33 110 00 Praha 1 tel: + 420 222 871 871 datová schránka: jn2aiqd
E10: 3. Soupis opatření a výdajů
E12: Opatření | H12: Číslo výdaje dle NV | I12: Investiční výdaje (Kč) | J12: Neinvestiční výdaje (Kč) | K12: Celkem (Kč) | L12: Podpora na investiční výdaje (Kč) | M12: Podpora na neinvestiční výdaje (Kč) | N12: Podpora celkem (Kč)
E13: Opatření č. I. Investice a výzkum | H13: 1 | I13: =SUMIFS('Přehled uplatňovaných výdajů'!J19:J719,'Přehled uplatňovaných výdajů'!F19:F719,"1.",'Přehled uplatňovaných výdajů'!E19:E719,"I.") -> 0 | J13: =SUMIFS('Přehled uplatňovaných výdajů'!K19:K719,'Přehled uplatňovaných výdajů'!F19:F719,"1.",'Přehled uplatňovaných výdajů'!E19:E719,"I.") -> 0 | K13: =SUM(I13:J13) -> 0 | L13: =SUMIFS('Přehled uplatňovaných výdajů'!M19:M719,'Přehled uplatňovaných výdajů'!F19:F719,"1.",'Přehled uplatňovaných výdajů'!E19:E719,"I.") -> 0 | M13: =SUMIFS('Přehled uplatňovaných výdajů'!N19:N719,'Přehled uplatňovaných výdajů'!F19:F719,"1.",'Přehled uplatňovaných výdajů'!E19:E719,"I.") -> 0 | N13: =SUM(L13:M13) -> 0
H14: 2 | I14: =SUMIFS('Přehled uplatňovaných výdajů'!J19:J719,'Přehled uplatňovaných výdajů'!F19:F719,"2.",'Přehled uplatňovaných výdajů'!E19:E719,"I.") -> 0 | J14: =SUMIFS('Přehled uplatňovaných výdajů'!K19:K719,'Přehled uplatňovaných výdajů'!F19:F719,"2.",'Přehled uplatňovaných výdajů'!E19:E719,"I.") -> 0 | K14: =SUM(I14:J14) -> 0 | L14: =SUMIFS('Přehled uplatňovaných výdajů'!M19:M719,'Přehled uplatňovaných výdajů'!F19:F719,"2.",'Přehled uplatňovaných výdajů'!E19:E719,"I.") -> 0 | M14: =SUMIFS('Přehled uplatňovaných výdajů'!N19:N719,'Přehled uplatňovaných výdajů'!F19:F719,"2.",'Přehled uplatňovaných výdajů'!E19:E719,"I.") -> 0 | N14: =SUM(L14:M14) -> 0
H15: 3 | I15: =SUMIFS('Přehled uplatňovaných výdajů'!J19:J719,'Přehled uplatňovaných výdajů'!F19:F719,"3.",'Přehled uplatňovaných výdajů'!E19:E719,"I.") -> 0 | J15: =SUMIFS('Přehled uplatňovaných výdajů'!K19:K719,'Přehled uplatňovaných výdajů'!F19:F719,"3.",'Přehled uplatňovaných výdajů'!E19:E719,"I.") -> 0 | K15: =SUM(I15:J15) -> 0 | L15: =SUMIFS('Přehled uplatňovaných výdajů'!M19:M719,'Přehled uplatňovaných výdajů'!F19:F719,"3.",'Přehled uplatňovaných výdajů'!E19:E719,"I.") -> 0 | M15: =SUMIFS('Přehled uplatňovaných výdajů'!N19:N719,'Přehled uplatňovaných výdajů'!F19:F719,"3.",'Přehled uplatňovaných výdajů'!E19:E719,"I.") -> 0 | N15: =SUM(L15:M15) -> 0
H16: 4 | I16: =SUMIFS('Přehled uplatňovaných výdajů'!J19:J719,'Přehled uplatňovaných výdajů'!F19:F719,"4.",'Přehled uplatňovaných výdajů'!E19:E719,"I.") -> 0 | J16: =SUMIFS('Přehled uplatňovaných výdajů'!K19:K719,'Přehled uplatňovaných výdajů'!F19:F719,"4.",'Přehled uplatňovaných výdajů'!E19:E719,"I.") -> 0 | K16: =SUM(I16:J16) -> 0 | L16: =SUMIFS('Přehled uplatňovaných výdajů'!M19:M719,'Přehled uplatňovaných výdajů'!F19:F719,"4.",'Přehled uplatňovaných výdajů'!E19:E719,"I.") -> 0 | M16: =SUMIFS('Přehled uplatňovaných výdajů'!N19:N719,'Přehled uplatňovaných výdajů'!F19:F719,"4.",'Přehled uplatňovaných výdajů'!E19:E719,"I.") -> 0 | N16: =SUM(L16:M16) -> 0
H17: 5 | I17: =SUMIFS('Přehled uplatňovaných výdajů'!J19:J719,'Přehled uplatňovaných výdajů'!F19:F719,"5.",'Přehled uplatňovaných výdajů'!E19:E719,"I.") -> 0 | J17: =SUMIFS('Přehled uplatňovaných výdajů'!K19:K719,'Přehled uplatňovaných výdajů'!F19:F719,"5.",'Přehled uplatňovaných výdajů'!E19:E719,"I.") -> 0 | K17: =SUM(I17:J17) -> 0 | L17: =SUMIFS('Přehled uplatňovaných výdajů'!M19:M719,'Přehled uplatňovaných výdajů'!F19:F719,"5.",'Přehled uplatňovaných výdajů'!E19:E719,"I.") -> 0 | M17: =SUMIFS('Přehled uplatňovaných výdajů'!N19:N719,'Přehled uplatňovaných výdajů'!F19:F719,"5.",'Přehled uplatňovaných výdajů'!E19:E719,"I.") -> 0 | N17: =SUM(L17:M17) -> 0
H18: 6 | I18: =SUMIFS('Přehled uplatňovaných výdajů'!J19:J719,'Přehled uplatňovaných výdajů'!F19:F719,"6.",'Přehled uplatňovaných výdajů'!E19:E719,"I.") -> 0 | J18: =SUMIFS('Přehled uplatňovaných výdajů'!K19:K719,'Přehled uplatňovaných výdajů'!F19:F719,"6.",'Přehled uplatňovaných výdajů'!E19:E719,"I.") -> 0 | K18: =SUM(I18:J18) -> 0 | L18: =SUMIFS('Přehled uplatňovaných výdajů'!M19:M719,'Přehled uplatňovaných výdajů'!F19:F719,"6.",'Přehled uplatňovaných výdajů'!E19:E719,"I.") -> 0 | M18: =SUMIFS('Přehled uplatňovaných výdajů'!N19:N719,'Přehled uplatňovaných výdajů'!F19:F719,"6.",'Přehled uplatňovaných výdajů'!E19:E719,"I.") -> 0 | N18: =SUM(L18:M18) -> 0
H19: 7 | I19: =SUMIFS('Přehled uplatňovaných výdajů'!J19:J719,'Přehled uplatňovaných výdajů'!F19:F719,"7.",'Přehled uplatňovaných výdajů'!E19:E719,"I.") -> 0 | J19: =SUMIFS('Přehled uplatňovaných výdajů'!K19:K719,'Přehled uplatňovaných výdajů'!F19:F719,"7.",'Přehled uplatňovaných výdajů'!E19:E719,"I.") -> 0 | K19: =SUM(I19:J19) -> 0 | L19: =SUMIFS('Přehled uplatňovaných výdajů'!M19:M719,'Přehled uplatňovaných výdajů'!F19:F719,"7.",'Přehled uplatňovaných výdajů'!E19:E719,"I.") -> 0 | M19: =SUMIFS('Přehled uplatňovaných výdajů'!N19:N719,'Přehled uplatňovaných výdajů'!F19:F719,"7.",'Přehled uplatňovaných výdajů'!E19:E719,"I.") -> 0 | N19: =SUM(L19:M19) -> 0
H20: 8 | I20: =SUMIFS('Přehled uplatňovaných výdajů'!J19:J719,'Přehled uplatňovaných výdajů'!F19:F719,"8.",'Přehled uplatňovaných výdajů'!E19:E719,"I.") -> 0 | J20: =SUMIFS('Přehled uplatňovaných výdajů'!K19:K719,'Přehled uplatňovaných výdajů'!F19:F719,"8.",'Přehled uplatňovaných výdajů'!E19:E719,"I.") -> 0 | K20: =SUM(I20:J20) -> 0 | L20: =SUMIFS('Přehled uplatňovaných výdajů'!M19:M719,'Přehled uplatňovaných výdajů'!F19:F719,"8.",'Přehled uplatňovaných výdajů'!E19:E719,"I.") -> 0 | M20: =SUMIFS('Přehled uplatňovaných výdajů'!N19:N719,'Přehled uplatňovaných výdajů'!F19:F719,"8.",'Přehled uplatňovaných výdajů'!E19:E719,"I.") -> 0 | N20: =SUM(L20:M20) -> 0
H21: 9 | I21: =SUMIFS('Přehled uplatňovaných výdajů'!J19:J719,'Přehled uplatňovaných výdajů'!F19:F719,"9.",'Přehled uplatňovaných výdajů'!E19:E719,"I.") -> 0 | J21: =SUMIFS('Přehled uplatňovaných výdajů'!K19:K719,'Přehled uplatňovaných výdajů'!F19:F719,"9.",'Přehled uplatňovaných výdajů'!E19:E719,"I.") -> 0 | K21: =SUM(I21:J21) -> 0 | L21: =SUMIFS('Přehled uplatňovaných výdajů'!M19:M719,'Přehled uplatňovaných výdajů'!F19:F719,"9.",'Přehled uplatňovaných výdajů'!E19:E719,"I.") -> 0 | M21: =SUMIFS('Přehled uplatňovaných výdajů'!N19:N719,'Přehled uplatňovaných výdajů'!F19:F719,"9.",'Přehled uplatňovaných výdajů'!E19:E719,"I.") -> 0 | N21: =SUM(L21:M21) -> 0
H22: 10 | I22: =SUMIFS('Přehled uplatňovaných výdajů'!J19:J719,'Přehled uplatňovaných výdajů'!F19:F719,"10.",'Přehled uplatňovaných výdajů'!E19:E719,"I.") -> 0 | J22: =SUMIFS('Přehled uplatňovaných výdajů'!K19:K719,'Přehled uplatňovaných výdajů'!F19:F719,"10.",'Přehled uplatňovaných výdajů'!E19:E719,"I.") -> 0 | K22: =SUM(I22:J22) -> 0 | L22: =SUMIFS('Přehled uplatňovaných výdajů'!M19:M719,'Přehled uplatňovaných výdajů'!F19:F719,"10.",'Přehled uplatňovaných výdajů'!E19:E719,"I.") -> 0 | M22: =SUMIFS('Přehled uplatňovaných výdajů'!N19:N719,'Přehled uplatňovaných výdajů'!F19:F719,"10.",'Přehled uplatňovaných výdajů'!E19:E719,"I.") -> 0 | N22: =SUM(L22:M22) -> 0
H23: 11 | I23: =SUMIFS('Přehled uplatňovaných výdajů'!J19:J719,'Přehled uplatňovaných výdajů'!F19:F719,"11.",'Přehled uplatňovaných výdajů'!E19:E719,"I.") -> 0 | J23: =SUMIFS('Přehled uplatňovaných výdajů'!K19:K719,'Přehled uplatňovaných výdajů'!F19:F719,"11.",'Přehled uplatňovaných výdajů'!E19:E719,"I.") -> 0 | K23: =SUM(I23:J23) -> 0 | L23: =SUMIFS('Přehled uplatňovaných výdajů'!M19:M719,'Přehled uplatňovaných výdajů'!F19:F719,"11.",'Přehled uplatňovaných výdajů'!E19:E719,"I.") -> 0 | M23: =SUMIFS('Přehled uplatňovaných výdajů'!N19:N719,'Přehled uplatňovaných výdajů'!F19:F719,"11.",'Přehled uplatňovaných výdajů'!E19:E719,"I.") -> 0 | N23: =SUM(L23:M23) -> 0
H24: 12 | I24: =SUMIFS('Přehled uplatňovaných výdajů'!J19:J719,'Přehled uplatňovaných výdajů'!F19:F719,"12.",'Přehled uplatňovaných výdajů'!E19:E719,"I.") -> 0 | J24: =SUMIFS('Přehled uplatňovaných výdajů'!K19:K719,'Přehled uplatňovaných výdajů'!F19:F719,"12.",'Přehled uplatňovaných výdajů'!E19:E719,"I.") -> 0 | K24: =SUM(I24:J24) -> 0 | L24: =SUMIFS('Přehled uplatňovaných výdajů'!M19:M719,'Přehled uplatňovaných výdajů'!F19:F719,"12.",'Přehled uplatňovaných výdajů'!E19:E719,"I.") -> 0 | M24: =SUMIFS('Přehled uplatňovaných výdajů'!N19:N719,'Přehled uplatňovaných výdajů'!F19:F719,"12.",'Přehled uplatňovaných výdajů'!E19:E719,"I.") -> 0 | N24: =SUM(L24:M24) -> 0
H25: 13 | I25: =SUMIFS('Přehled uplatňovaných výdajů'!J19:J719,'Přehled uplatňovaných výdajů'!F19:F719,"13.",'Přehled uplatňovaných výdajů'!E19:E719,"I.") -> 0 | J25: =SUMIFS('Přehled uplatňovaných výdajů'!K19:K719,'Přehled uplatňovaných výdajů'!F19:F719,"13.",'Přehled uplatňovaných výdajů'!E19:E719,"I.") -> 0 | K25: =SUM(I25:J25) -> 0 | L25: =SUMIFS('Přehled uplatňovaných výdajů'!M19:M719,'Přehled uplatňovaných výdajů'!F19:F719,"13.",'Přehled uplatňovaných výdajů'!E19:E719,"I.") -> 0 | M25: =SUMIFS('Přehled uplatňovaných výdajů'!N19:N719,'Přehled uplatňovaných výdajů'!F19:F719,"13.",'Přehled uplatňovaných výdajů'!E19:E719,"I.") -> 0 | N25: =SUM(L25:M25) -> 0
H26: 14 | I26: =SUMIFS('Přehled uplatňovaných výdajů'!J19:J719,'Přehled uplatňovaných výdajů'!F19:F719,"14.",'Přehled uplatňovaných výdajů'!E19:E719,"I.") -> 0 | J26: =SUMIFS('Přehled uplatňovaných výdajů'!K19:K719,'Přehled uplatňovaných výdajů'!F19:F719,"14.",'Přehled uplatňovaných výdajů'!E19:E719,"I.") -> 0 | K26: =SUM(I26:J26) -> 0 | L26: =SUMIFS('Přehled uplatňovaných výdajů'!M19:M719,'Přehled uplatňovaných výdajů'!F19:F719,"14.",'Přehled uplatňovaných výdajů'!E19:E719,"I.") -> 0 | M26: =SUMIFS('Přehled uplatňovaných výdajů'!N19:N719,'Přehled uplatňovaných výdajů'!F19:F719,"14.",'Přehled uplatňovaných výdajů'!E19:E719,"I.") -> 0 | N26: =SUM(L26:M26) -> 0
H27: 15 | I27: =SUMIFS('Přehled uplatňovaných výdajů'!J19:J719,'Přehled uplatňovaných výdajů'!F19:F719,"15.",'Přehled uplatňovaných výdajů'!E19:E719,"I.") -> 0 | J27: =SUMIFS('Přehled uplatňovaných výdajů'!K19:K719,'Přehled uplatňovaných výdajů'!F19:F719,"15.",'Přehled uplatňovaných výdajů'!E19:E719,"I.") -> 0 | K27: =SUM(I27:J27) -> 0 | L27: =SUMIFS('Přehled uplatňovaných výdajů'!M19:M719,'Přehled uplatňovaných výdajů'!F19:F719,"15.",'Přehled uplatňovaných výdajů'!E19:E719,"I.") -> 0 | M27: =SUMIFS('Přehled uplatňovaných výdajů'!N19:N719,'Přehled uplatňovaných výdajů'!F19:F719,"15.",'Přehled uplatňovaných výdajů'!E19:E719,"I.") -> 0 | N27: =SUM(L27:M27) -> 0
E28: Opatření č. II. Poradenství | H28: 1 | I28: =SUMIFS('Přehled uplatňovaných výdajů'!J19:J719,'Přehled uplatňovaných výdajů'!F19:F719,"1.",'Přehled uplatňovaných výdajů'!E19:E719,"II.") -> 0 | J28: =SUMIFS('Přehled uplatňovaných výdajů'!K19:K719,'Přehled uplatňovaných výdajů'!F19:F719,"1.",'Přehled uplatňovaných výdajů'!E19:E719,"II.") -> 0 | K28: =SUM(I28:J28) -> 0 | L28: =SUMIFS('Přehled uplatňovaných výdajů'!M19:M719,'Přehled uplatňovaných výdajů'!F19:F719,"1.",'Přehled uplatňovaných výdajů'!E19:E719,"II.") -> 0 | M28: =SUMIFS('Přehled uplatňovaných výdajů'!N19:N719,'Přehled uplatňovaných výdajů'!F19:F719,"1.",'Přehled uplatňovaných výdajů'!E19:E719,"II.") -> 0 | N28: =SUM(L28:M28) -> 0
H29: 2 | I29: =SUMIFS('Přehled uplatňovaných výdajů'!J19:J719,'Přehled uplatňovaných výdajů'!F19:F719,"2.",'Přehled uplatňovaných výdajů'!E19:E719,"II.") -> 0 | J29: =SUMIFS('Přehled uplatňovaných výdajů'!K19:K719,'Přehled uplatňovaných výdajů'!F19:F719,"2.",'Přehled uplatňovaných výdajů'!E19:E719,"II.") -> 0 | K29: =SUM(I29:J29) -> 0 | L29: =SUMIFS('Přehled uplatňovaných výdajů'!M19:M719,'Přehled uplatňovaných výdajů'!F19:F719,"2.",'Přehled uplatňovaných výdajů'!E19:E719,"II.") -> 0 | M29: =SUMIFS('Přehled uplatňovaných výdajů'!N19:N719,'Přehled uplatňovaných výdajů'!F19:F719,"2.",'Přehled uplatňovaných výdajů'!E19:E719,"II.") -> 0 | N29: =SUM(L29:M29) -> 0
H30: 3 | I30: =SUMIFS('Přehled uplatňovaných výdajů'!J19:J719,'Přehled uplatňovaných výdajů'!F19:F719,"3.",'Přehled uplatňovaných výdajů'!E19:E719,"II.") -> 0 | J30: =SUMIFS('Přehled uplatňovaných výdajů'!K19:K719,'Přehled uplatňovaných výdajů'!F19:F719,"3.",'Přehled uplatňovaných výdajů'!E19:E719,"II.") -> 0 | K30: =SUM(I30:J30) -> 0 | L30: =SUMIFS('Přehled uplatňovaných výdajů'!M19:M719,'Přehled uplatňovaných výdajů'!F19:F719,"3.",'Přehled uplatňovaných výdajů'!E19:E719,"II.") -> 0 | M30: =SUMIFS('Přehled uplatňovaných výdajů'!N19:N719,'Přehled uplatňovaných výdajů'!F19:F719,"3.",'Přehled uplatňovaných výdajů'!E19:E719,"II.") -> 0 | N30: =SUM(L30:M30) -> 0
H31: 4 | I31: =SUMIFS('Přehled uplatňovaných výdajů'!J19:J719,'Přehled uplatňovaných výdajů'!F19:F719,"4.",'Přehled uplatňovaných výdajů'!E19:E719,"II.") -> 0 | J31: =SUMIFS('Přehled uplatňovaných výdajů'!K19:K719,'Přehled uplatňovaných výdajů'!F19:F719,"4.",'Přehled uplatňovaných výdajů'!E19:E719,"II.") -> 0 | K31: =SUM(I31:J31) -> 0 | L31: =SUMIFS('Přehled uplatňovaných výdajů'!M19:M719,'Přehled uplatňovaných výdajů'!F19:F719,"4.",'Přehled uplatňovaných výdajů'!E19:E719,"II.") -> 0 | M31: =SUMIFS('Přehled uplatňovaných výdajů'!N19:N719,'Přehled uplatňovaných výdajů'!F19:F719,"4.",'Přehled uplatňovaných výdajů'!E19:E719,"II.") -> 0 | N31: =SUM(L31:M31) -> 0
H32: 5 | I32: =SUMIFS('Přehled uplatňovaných výdajů'!J19:J719,'Přehled uplatňovaných výdajů'!F19:F719,"5.",'Přehled uplatňovaných výdajů'!E19:E719,"II.") -> 0 | J32: =SUMIFS('Přehled uplatňovaných výdajů'!K19:K719,'Přehled uplatňovaných výdajů'!F19:F719,"5.",'Přehled uplatňovaných výdajů'!E19:E719,"II.") -> 0 | K32: =SUM(I32:J32) -> 0 | L32: =SUMIFS('Přehled uplatňovaných výdajů'!M19:M719,'Přehled uplatňovaných výdajů'!F19:F719,"5.",'Přehled uplatňovaných výdajů'!E19:E719,"II.") -> 0 | M32: =SUMIFS('Přehled uplatňovaných výdajů'!N19:N719,'Přehled uplatňovaných výdajů'!F19:F719,"5.",'Přehled uplatňovaných výdajů'!E19:E719,"II.") -> 0 | N32: =SUM(L32:M32) -> 0
H33: 6 | I33: =SUMIFS('Přehled uplatňovaných výdajů'!J19:J719,'Přehled uplatňovaných výdajů'!F19:F719,"6.",'Přehled uplatňovaných výdajů'!E19:E719,"II.") -> 0 | J33: =SUMIFS('Přehled uplatňovaných výdajů'!K19:K719,'Přehled uplatňovaných výdajů'!F19:F719,"6.",'Přehled uplatňovaných výdajů'!E19:E719,"II.") -> 0 | K33: =SUM(I33:J33) -> 0 | L33: =SUMIFS('Přehled uplatňovaných výdajů'!M19:M719,'Přehled uplatňovaných výdajů'!F19:F719,"6.",'Přehled uplatňovaných výdajů'!E19:E719,"II.") -> 0 | M33: =SUMIFS('Přehled uplatňovaných výdajů'!N19:N719,'Přehled uplatňovaných výdajů'!F19:F719,"6.",'Přehled uplatňovaných výdajů'!E19:E719,"II.") -> 0 | N33: =SUM(L33:M33) -> 0
H34: 7 | I34: =SUMIFS('Přehled uplatňovaných výdajů'!J19:J719,'Přehled uplatňovaných výdajů'!F19:F719,"7.",'Přehled uplatňovaných výdajů'!E19:E719,"II.") -> 0 | J34: =SUMIFS('Přehled uplatňovaných výdajů'!K19:K719,'Přehled uplatňovaných výdajů'!F19:F719,"7.",'Přehled uplatňovaných výdajů'!E19:E719,"II.") -> 0 | K34: =SUM(I34:J34) -> 0 | L34: =SUMIFS('Přehled uplatňovaných výdajů'!M19:M719,'Přehled uplatňovaných výdajů'!F19:F719,"7.",'Přehled uplatňovaných výdajů'!E19:E719,"II.") -> 0 | M34: =SUMIFS('Přehled uplatňovaných výdajů'!N19:N719,'Přehled uplatňovaných výdajů'!F19:F719,"7.",'Přehled uplatňovaných výdajů'!E19:E719,"II.") -> 0 | N34: =SUM(L34:M34) -> 0
E35: Opatření č. III. Environmentální opatření a opatření ke zmírnění klimatu | H35: 1 | I35: =SUMIFS('Přehled uplatňovaných výdajů'!J19:J719,'Přehled uplatňovaných výdajů'!F19:F719,"1.",'Přehled uplatňovaných výdajů'!E19:E719,"III.") -> 0 | J35: =SUMIFS('Přehled uplatňovaných výdajů'!K19:K719,'Přehled uplatňovaných výdajů'!F19:F719,"1.",'Přehled uplatňovaných výdajů'!E19:E719,"III.") -> 0 | K35: =SUM(I35:J35) -> 0 | L35: =SUMIFS('Přehled uplatňovaných výdajů'!M19:M719,'Přehled uplatňovaných výdajů'!F19:F719,"1.",'Přehled uplatňovaných výdajů'!E19:E719,"III.") -> 0 | M35: =SUMIFS('Přehled uplatňovaných výdajů'!N19:N719,'Přehled uplatňovaných výdajů'!F19:F719,"1.",'Přehled uplatňovaných výdajů'!E19:E719,"III.") -> 0 | N35: =SUM(L35:M35) -> 0
H36: 2 | I36: =SUMIFS('Přehled uplatňovaných výdajů'!J19:J719,'Přehled uplatňovaných výdajů'!F19:F719,"2.",'Přehled uplatňovaných výdajů'!E19:E719,"III.") -> 0 | J36: =SUMIFS('Přehled uplatňovaných výdajů'!K19:K719,'Přehled uplatňovaných výdajů'!F19:F719,"2.",'Přehled uplatňovaných výdajů'!E19:E719,"III.") -> 0 | K36: =SUM(I36:J36) -> 0 | L36: =SUMIFS('Přehled uplatňovaných výdajů'!M19:M719,'Přehled uplatňovaných výdajů'!F19:F719,"2.",'Přehled uplatňovaných výdajů'!E19:E719,"III.") -> 0 | M36: =SUMIFS('Přehled uplatňovaných výdajů'!N19:N719,'Přehled uplatňovaných výdajů'!F19:F719,"2.",'Přehled uplatňovaných výdajů'!E19:E719,"III.") -> 0 | N36: =SUM(L36:M36) -> 0
H37: 3 | I37: =SUMIFS('Přehled uplatňovaných výdajů'!J19:J719,'Přehled uplatňovaných výdajů'!F19:F719,"3.",'Přehled uplatňovaných výdajů'!E19:E719,"III.") -> 0 | J37: =SUMIFS('Přehled uplatňovaných výdajů'!K19:K719,'Přehled uplatňovaných výdajů'!F19:F719,"3.",'Přehled uplatňovaných výdajů'!E19:E719,"III.") -> 0 | K37: =SUM(I37:J37) -> 0 | L37: =SUMIFS('Přehled uplatňovaných výdajů'!M19:M719,'Přehled uplatňovaných výdajů'!F19:F719,"3.",'Přehled uplatňovaných výdajů'!E19:E719,"III.") -> 0 | M37: =SUMIFS('Přehled uplatňovaných výdajů'!N19:N719,'Přehled uplatňovaných výdajů'!F19:F719,"3.",'Přehled uplatňovaných výdajů'!E19:E719,"III.") -> 0 | N37: =SUM(L37:M37) -> 0
H38: 4 | I38: =SUMIFS('Přehled uplatňovaných výdajů'!J19:J719,'Přehled uplatňovaných výdajů'!F19:F719,"4.",'Přehled uplatňovaných výdajů'!E19:E719,"III.") -> 0 | J38: =SUMIFS('Přehled uplatňovaných výdajů'!K19:K719,'Přehled uplatňovaných výdajů'!F19:F719,"4.",'Přehled uplatňovaných výdajů'!E19:E719,"III.") -> 0 | K38: =SUM(I38:J38) -> 0 | L38: =SUMIFS('Přehled uplatňovaných výdajů'!M19:M719,'Přehled uplatňovaných výdajů'!F19:F719,"4.",'Přehled uplatňovaných výdajů'!E19:E719,"III.") -> 0 | M38: =SUMIFS('Přehled uplatňovaných výdajů'!N19:N719,'Přehled uplatňovaných výdajů'!F19:F719,"4.",'Přehled uplatňovaných výdajů'!E19:E719,"III.") -> 0 | N38: =SUM(L38:M38) -> 0
H39: 5 | I39: =SUMIFS('Přehled uplatňovaných výdajů'!J19:J719,'Přehled uplatňovaných výdajů'!F19:F719,"5.",'Přehled uplatňovaných výdajů'!E19:E719,"III.") -> 0 | J39: =SUMIFS('Přehled uplatňovaných výdajů'!K19:K719,'Přehled uplatňovaných výdajů'!F19:F719,"5.",'Přehled uplatňovaných výdajů'!E19:E719,"III.") -> 0 | K39: =SUM(I39:J39) -> 0 | L39: =SUMIFS('Přehled uplatňovaných výdajů'!M19:M719,'Přehled uplatňovaných výdajů'!F19:F719,"5.",'Přehled uplatňovaných výdajů'!E19:E719,"III.") -> 0 | M39: =SUMIFS('Přehled uplatňovaných výdajů'!N19:N719,'Přehled uplatňovaných výdajů'!F19:F719,"5.",'Přehled uplatňovaných výdajů'!E19:E719,"III.") -> 0 | N39: =SUM(L39:M39) -> 0
H40: 6 | I40: =SUMIFS('Přehled uplatňovaných výdajů'!J19:J719,'Přehled uplatňovaných výdajů'!F19:F719,"6.",'Přehled uplatňovaných výdajů'!E19:E719,"III.") -> 0 | J40: =SUMIFS('Přehled uplatňovaných výdajů'!K19:K719,'Přehled uplatňovaných výdajů'!F19:F719,"6.",'Přehled uplatňovaných výdajů'!E19:E719,"III.") -> 0 | K40: =SUM(I40:J40) -> 0 | L40: =SUMIFS('Přehled uplatňovaných výdajů'!M19:M719,'Přehled uplatňovaných výdajů'!F19:F719,"6.",'Přehled uplatňovaných výdajů'!E19:E719,"III.") -> 0 | M40: =SUMIFS('Přehled uplatňovaných výdajů'!N19:N719,'Přehled uplatňovaných výdajů'!F19:F719,"6.",'Přehled uplatňovaných výdajů'!E19:E719,"III.") -> 0 | N40: =SUM(L40:M40) -> 0
H41: 7 | I41: =SUMIFS('Přehled uplatňovaných výdajů'!J19:J719,'Přehled uplatňovaných výdajů'!F19:F719,"7.",'Přehled uplatňovaných výdajů'!E19:E719,"III.") -> 0 | J41: =SUMIFS('Přehled uplatňovaných výdajů'!K19:K719,'Přehled uplatňovaných výdajů'!F19:F719,"7.",'Přehled uplatňovaných výdajů'!E19:E719,"III.") -> 0 | K41: =SUM(I41:J41) -> 0 | L41: =SUMIFS('Přehled uplatňovaných výdajů'!M19:M719,'Přehled uplatňovaných výdajů'!F19:F719,"7.",'Přehled uplatňovaných výdajů'!E19:E719,"III.") -> 0 | M41: =SUMIFS('Přehled uplatňovaných výdajů'!N19:N719,'Přehled uplatňovaných výdajů'!F19:F719,"7.",'Přehled uplatňovaných výdajů'!E19:E719,"III.") -> 0 | N41: =SUM(L41:M41) -> 0
H42: 8 | I42: =SUMIFS('Přehled uplatňovaných výdajů'!J19:J719,'Přehled uplatňovaných výdajů'!F19:F719,"8.",'Přehled uplatňovaných výdajů'!E19:E719,"III.") -> 0 | J42: =SUMIFS('Přehled uplatňovaných výdajů'!K19:K719,'Přehled uplatňovaných výdajů'!F19:F719,"8.",'Přehled uplatňovaných výdajů'!E19:E719,"III.") -> 0 | K42: =SUM(I42:J42) -> 0 | L42: =SUMIFS('Přehled uplatňovaných výdajů'!M19:M719,'Přehled uplatňovaných výdajů'!F19:F719,"8.",'Přehled uplatňovaných výdajů'!E19:E719,"III.") -> 0 | M42: =SUMIFS('Přehled uplatňovaných výdajů'!N19:N719,'Přehled uplatňovaných výdajů'!F19:F719,"8.",'Přehled uplatňovaných výdajů'!E19:E719,"III.") -> 0 | N42: =SUM(L42:M42) -> 0
H43: 9 | I43: =SUMIFS('Přehled uplatňovaných výdajů'!J19:J719,'Přehled uplatňovaných výdajů'!F19:F719,"9.",'Přehled uplatňovaných výdajů'!E19:E719,"III.") -> 0 | J43: =SUMIFS('Přehled uplatňovaných výdajů'!K19:K719,'Přehled uplatňovaných výdajů'!F19:F719,"9.",'Přehled uplatňovaných výdajů'!E19:E719,"III.") -> 0 | K43: =SUM(I43:J43) -> 0 | L43: =SUMIFS('Přehled uplatňovaných výdajů'!M19:M719,'Přehled uplatňovaných výdajů'!F19:F719,"9.",'Přehled uplatňovaných výdajů'!E19:E719,"III.") -> 0 | M43: =SUMIFS('Přehled uplatňovaných výdajů'!N19:N719,'Přehled uplatňovaných výdajů'!F19:F719,"9.",'Přehled uplatňovaných výdajů'!E19:E719,"III.") -> 0 | N43: =SUM(L43:M43) -> 0
E44: Opatření č. IV. Odbyt produkce: soustředění nabídky | H44: 1 | I44: =SUMIFS('Přehled uplatňovaných výdajů'!J19:J719,'Přehled uplatňovaných výdajů'!F19:F719,"1.",'Přehled uplatňovaných výdajů'!E19:E719,"IV.") -> 0 | J44: =SUMIFS('Přehled uplatňovaných výdajů'!K19:K719,'Přehled uplatňovaných výdajů'!F19:F719,"1.",'Přehled uplatňovaných výdajů'!E19:E719,"IV.") -> 0 | K44: =SUM(I44:J44) -> 0 | L44: =SUMIFS('Přehled uplatňovaných výdajů'!M19:M719,'Přehled uplatňovaných výdajů'!F19:F719,"1.",'Přehled uplatňovaných výdajů'!E19:E719,"IV.") -> 0 | M44: =SUMIFS('Přehled uplatňovaných výdajů'!N19:N719,'Přehled uplatňovaných výdajů'!F19:F719,"1.",'Přehled uplatňovaných výdajů'!E19:E719,"IV.") -> 0 | N44: =SUM(L44:M44) -> 0
H45: 2 | I45: =SUMIFS('Přehled uplatňovaných výdajů'!J19:J719,'Přehled uplatňovaných výdajů'!F19:F719,"2.",'Přehled uplatňovaných výdajů'!E19:E719,"IV.") -> 0 | J45: =SUMIFS('Přehled uplatňovaných výdajů'!K19:K719,'Přehled uplatňovaných výdajů'!F19:F719,"2.",'Přehled uplatňovaných výdajů'!E19:E719,"IV.") -> 0 | K45: =SUM(I45:J45) -> 0 | L45: =SUMIFS('Přehled uplatňovaných výdajů'!M19:M719,'Přehled uplatňovaných výdajů'!F19:F719,"2.",'Přehled uplatňovaných výdajů'!E19:E719,"IV.") -> 0 | M45: =SUMIFS('Přehled uplatňovaných výdajů'!N19:N719,'Přehled uplatňovaných výdajů'!F19:F719,"2.",'Přehled uplatňovaných výdajů'!E19:E719,"IV.") -> 0 | N45: =SUM(L45:M45) -> 0
H46: 3 | I46: =SUMIFS('Přehled uplatňovaných výdajů'!J19:J719,'Přehled uplatňovaných výdajů'!F19:F719,"3.",'Přehled uplatňovaných výdajů'!E19:E719,"IV.") -> 0 | J46: =SUMIFS('Přehled uplatňovaných výdajů'!K19:K719,'Přehled uplatňovaných výdajů'!F19:F719,"3.",'Přehled uplatňovaných výdajů'!E19:E719,"IV.") -> 0 | K46: =SUM(I46:J46) -> 0 | L46: =SUMIFS('Přehled uplatňovaných výdajů'!M19:M719,'Přehled uplatňovaných výdajů'!F19:F719,"3.",'Přehled uplatňovaných výdajů'!E19:E719,"IV.") -> 0 | M46: =SUMIFS('Přehled uplatňovaných výdajů'!N19:N719,'Přehled uplatňovaných výdajů'!F19:F719,"3.",'Přehled uplatňovaných výdajů'!E19:E719,"IV.") -> 0 | N46: =SUM(L46:M46) -> 0
H47: 4 | I47: =SUMIFS('Přehled uplatňovaných výdajů'!J19:J719,'Přehled uplatňovaných výdajů'!F19:F719,"4.",'Přehled uplatňovaných výdajů'!E19:E719,"IV.") -> 0 | J47: =SUMIFS('Přehled uplatňovaných výdajů'!K19:K719,'Přehled uplatňovaných výdajů'!F19:F719,"4.",'Přehled uplatňovaných výdajů'!E19:E719,"IV.") -> 0 | K47: =SUM(I47:J47) -> 0 | L47: =SUMIFS('Přehled uplatňovaných výdajů'!M19:M719,'Přehled uplatňovaných výdajů'!F19:F719,"4.",'Přehled uplatňovaných výdajů'!E19:E719,"IV.") -> 0 | M47: =SUMIFS('Přehled uplatňovaných výdajů'!N19:N719,'Přehled uplatňovaných výdajů'!F19:F719,"4.",'Přehled uplatňovaných výdajů'!E19:E719,"IV.") -> 0 | N47: =SUM(L47:M47) -> 0
H48: 5 | I48: =SUMIFS('Přehled uplatňovaných výdajů'!J19:J719,'Přehled uplatňovaných výdajů'!F19:F719,"5.",'Přehled uplatňovaných výdajů'!E19:E719,"IV.") -> 0 | J48: =SUMIFS('Přehled uplatňovaných výdajů'!K19:K719,'Přehled uplatňovaných výdajů'!F19:F719,"5.",'Přehled uplatňovaných výdajů'!E19:E719,"IV.") -> 0 | K48: =SUM(I48:J48) -> 0 | L48: =SUMIFS('Přehled uplatňovaných výdajů'!M19:M719,'Přehled uplatňovaných výdajů'!F19:F719,"5.",'Přehled uplatňovaných výdajů'!E19:E719,"IV.") -> 0 | M48: =SUMIFS('Přehled uplatňovaných výdajů'!N19:N719,'Přehled uplatňovaných výdajů'!F19:F719,"5.",'Přehled uplatňovaných výdajů'!E19:E719,"IV.") -> 0 | N48: =SUM(L48:M48) -> 0
H49: 6 | I49: =SUMIFS('Přehled uplatňovaných výdajů'!J19:J719,'Přehled uplatňovaných výdajů'!F19:F719,"6.",'Přehled uplatňovaných výdajů'!E19:E719,"IV.") -> 0 | J49: =SUMIFS('Přehled uplatňovaných výdajů'!K19:K719,'Přehled uplatňovaných výdajů'!F19:F719,"6.",'Přehled uplatňovaných výdajů'!E19:E719,"IV.") -> 0 | K49: =SUM(I49:J49) -> 0 | L49: =SUMIFS('Přehled uplatňovaných výdajů'!M19:M719,'Přehled uplatňovaných výdajů'!F19:F719,"6.",'Přehled uplatňovaných výdajů'!E19:E719,"IV.") -> 0 | M49: =SUMIFS('Přehled uplatňovaných výdajů'!N19:N719,'Přehled uplatňovaných výdajů'!F19:F719,"6.",'Přehled uplatňovaných výdajů'!E19:E719,"IV.") -> 0 | N49: =SUM(L49:M49) -> 0
...

Sheet Přehled opatření a výdajů
N7: Příloha č. 5 - Přehled uplatňovaných výdajů (OP okrasné rostliny) | S7: Ve Smečkách 33
S8: 110 00 Praha 1
S9: tel: + 420 222 871 871
S10: datová schránka: jn2aiqd
H13: Informativní přehled jednotlivých opatření, výdajů a cílů dle přílohy č. 5 k nařízení vlády č. 82/2023 Sb.
H15: ODVĚTVÍ OKRASNÝCH ROSTLIN
H17: I. Investice a výzkum
H18: Sledované cíle podle nařízení Evropského parlamentu a Rady (EU) 2021/2115 - čl. 46 písm. a), d), e), nebo f)
H19: Sledované cíle podle nařízení Komise v přenesené pravomoci (EU) 2022/126 (opatření související s agroenvironmentálně klimatickými cíli) - čl. 12 písm. d), nebo i)
H20: 1. | I20: Výdaje na pořízení výpočetní techniky
H21: 2. | I21: Výdaje na pořízení softwarového vybavení
H22: 3. | I22: Výdaje na pořízení technologií pro přípravu půdy a pěstebních substrátů
H23: 4. | I23: Výdaje na pořízení technologií pro ošetřování a ochranu rostlin
H24: 5. | I24: Výdaje na pořízení technologií pro sklizeň rostlin
H25: 6. | I25: Výdaje na pořízení techniky pro dopravu v rámci organizace producentů
H26: 7. | I26: Výdaje na výzkumnou činnost a podporu inovativních metod produkce rostlin
H27: 8. | I27: Výdaje na pořízení skleníků, fóliovníků a jejich vybavení včetně závlahy, topení, chlazení, ventilace, clon, osvětlení, pěstebních žlabů, HW a SW pro řízení klimatu, postřikovače, stroje pro čištění skleníku nebo výdaje na vybavení ploch s kontejnery
H28: 9. | I28: Výdaje na budování systémů síťových a foliových krytů
H29: 10. | I29: Výdaje na pořízení závlahových technologií včetně příslušenství (kapková závlaha, mikropostřik, závlahové systémy s uzavřeným oběhem vody, mobilní závlah. zařízení, záplavové stoly, nádrže na závlah. vodu, systémy na filtraci, úpravu a desinfekci vody
H30: 11. | I30: Výdaje na pořízení dodatečné nástavby nákladních vozů vybavené chladícími boxy nebo regulovanou atmosférou
H31: 12. | I31: Výdaje na pořízení expedičních vozíků
... H34: 15. | I34: Správní výdaje související s prováděním tohoto opatření
H36: II. Poradenství
H37: Sledované cíle podle nařízení Evropského parlamentu a Rady (EU) 2021/2115 - čl. 46 písm. a) nebo d)
H38: 1. | I38: Výdaje spojené se získáním odborných informací o šetrných způsobech pěstování rostlin, včetně oblasti ekologické a integrované produkce, kontroly chorob a škůdců, včetně sklizně, posklizňové úpravy, skladování
H39: 2. | I39: Výdaje spojené se získáním odborných informací o dohledatelnosti produktů, vysokou kvalitou produkce, jejím udržením nebo zlepšením
H40: 3. | I40: Výdaje spojené s předáním odborných informací, znalostí, osvědčených postupů do zemědělské praxe
H41: 4. | I41: Výdaje spojené se vzděláváním a přednáškovou činností včetně pronájmu vzdělávacích prostor, výstavní plochy, sálu, ubytování, dopravy
H42: 5. | I42: Výdaje spojené s bezpečností pracovního prostředí
H43: 6. | I43: Personální výdaje související s prováděním tohoto opatření
H44: 7. | I44: Správní výdaje související s prováděním tohoto opatření
H46: III. Environmentální opatření a opatření ke zmírnění klimatu
H47: Sledované cíle podle nařízení Evropského parlamentu a Rady (EU) 2021/2115 - čl. 46 písm. a), e), nebo f)
H48: Sledované cíle podle nařízení Komise v přenesené pravomoci (EU) 2022/126 (opatření související s agroenvironmentálně klimatickými cíli) - čl. 12 písm. c), e) nebo i)
H49: 1. | I49: Zvláštní výdaje na přípravky na biologickou ochranu rostlin včetně výživy pro predátory a přípravků na přírodní bázi ve výši 97,79 % z fakturované částky
H50: 2. | I50: Zvláštní výdaje na netkané textilie na pokrytí porostu ve výši 93,67 % z fakturované částky
H51: 3. | I51: Zvláštní výdaje na zajištění služby týkající se zavedení a provozu vratných obalů včetně pronájmu expedičních vozíků ve výši 86,49 % z fakturované částky
H52: 4. | I52: Zvláštní výdaje spojené s roubováním rostlin pro produkci ve venkovních a krytých podmínkách ve výši rozdílu mezi neroubovanými rostlinami a roubovanými rostlinami; způsobilým výdajem je výhradně samotné roubování rostlin
H53: 5. | I53: Výdaje na služby spojené s vakcinací rostlin proti původcům rostlinných viróz
H54: 6. | I54: Zvláštní výdaje na zavedení a provoz biologicky rozložitelných obalů a kontejnerů (květináčů) ve výši 100 % z fakturované částky
...
